BEGIN:VCALENDAR
VERSION:2.0
PRODID:-//Fellowship Community Church - ECPv6.11.0.1//NONSGML v1.0//EN
CALSCALE:GREGORIAN
METHOD:PUBLISH
X-ORIGINAL-URL:https://fcchurch.org
X-WR-CALDESC:Events for Fellowship Community Church
REFRESH-INTERVAL;VALUE=DURATION:PT1H
X-Robots-Tag:noindex
X-PUBLISHED-TTL:PT1H
BEGIN:VTIMEZONE
TZID:America/Denver
BEGIN:DAYLIGHT
TZOFFSETFROM:-0700
TZOFFSETTO:-0600
TZNAME:MDT
DTSTART:20240310T090000
END:DAYLIGHT
BEGIN:STANDARD
TZOFFSETFROM:-0600
TZOFFSETTO:-0700
TZNAME:MST
DTSTART:20241103T080000
END:STANDARD
END:VTIMEZONE
BEGIN:VEVENT
DTSTART;TZID=America/Denver:20240726T070000
DTEND;TZID=America/Denver:20240728T170000
DTSTAMP:20260425T165732
CREATED:20240514T205230Z
LAST-MODIFIED:20240722T175910Z
UID:10002774-1721977200-1722186000@fcchurch.org
SUMMARY:Senior Escape 2024
DESCRIPTION:Senior Escape 2024 will be July 26-28 in Johnson Lake\, NE. \nEvery year we take out incoming and outgoing high school seniors to the lake for a weekend together before out graduates head off to their next season of life. \nA big part of this weekend is to look back at what has impacted them over their time in the youth ministry and to look ahead and set some goals for the next year.
URL:https://fcchurch.org/event/senior-escape-2024/
LOCATION:Johnson Lake\, NE\, Johnson Lake\, NE\, United States
CATEGORIES:youth
ATTACH;FMTTYPE=image/png:https://fcchurch.org/wp-content/uploads/2024/05/IMG_5468.png
GEO:40.6774662;-99.8487025
END:VEVENT
END:VCALENDAR