BEGIN:VCALENDAR
VERSION:2.0
PRODID:-//Fellowship Community Church - ECPv6.11.0.1//NONSGML v1.0//EN
CALSCALE:GREGORIAN
METHOD:PUBLISH
X-ORIGINAL-URL:https://fcchurch.org
X-WR-CALDESC:Events for Fellowship Community Church
REFRESH-INTERVAL;VALUE=DURATION:PT1H
X-Robots-Tag:noindex
X-PUBLISHED-TTL:PT1H
BEGIN:VTIMEZONE
TZID:America/Denver
BEGIN:DAYLIGHT
TZOFFSETFROM:-0700
TZOFFSETTO:-0600
TZNAME:MDT
DTSTART:20240310T090000
END:DAYLIGHT
BEGIN:STANDARD
TZOFFSETFROM:-0600
TZOFFSETTO:-0700
TZNAME:MST
DTSTART:20241103T080000
END:STANDARD
END:VTIMEZONE
BEGIN:VEVENT
DTSTART;TZID=America/Denver:20240901T103000
DTEND;TZID=America/Denver:20240901T113000
DTSTAMP:20260425T043953
CREATED:20240805T203205Z
LAST-MODIFIED:20240805T203205Z
UID:10002822-1725186600-1725190200@fcchurch.org
SUMMARY:Baptism Class
DESCRIPTION:Are you interested in baptism? Considering it? Have you trusted Jesus but never followed Him in obedience with this step? Why not join us for a baptism class on Sunday\, September 1\, during the second service\, and get what you need to make that decision. \nOur next service for baptisms will be on Sunday\, September 29. \nIf interested\, sign up here or reach out to Dave Bruscher at dbruscher@fcchurch.org
URL:https://fcchurch.org/event/baptism-class-10/
LOCATION:Fellowship Community Church\, 6263 S. Parker Rd\, Centennial\, CO\, 80016
CATEGORIES:all-church,bulletin,event
ATTACH;FMTTYPE=image/jpeg:https://fcchurch.org/wp-content/uploads/2023/02/baptism-scaled.jpeg
END:VEVENT
END:VCALENDAR