BEGIN:VCALENDAR
VERSION:2.0
PRODID:-//Fellowship Community Church - ECPv6.11.0.1//NONSGML v1.0//EN
CALSCALE:GREGORIAN
METHOD:PUBLISH
X-ORIGINAL-URL:https://fcchurch.org
X-WR-CALDESC:Events for Fellowship Community Church
REFRESH-INTERVAL;VALUE=DURATION:PT1H
X-Robots-Tag:noindex
X-PUBLISHED-TTL:PT1H
BEGIN:VTIMEZONE
TZID:America/Denver
BEGIN:DAYLIGHT
TZOFFSETFROM:-0700
TZOFFSETTO:-0600
TZNAME:MDT
DTSTART:20240310T090000
END:DAYLIGHT
BEGIN:STANDARD
TZOFFSETFROM:-0600
TZOFFSETTO:-0700
TZNAME:MST
DTSTART:20241103T080000
END:STANDARD
END:VTIMEZONE
BEGIN:VEVENT
DTSTART;TZID=America/Denver:20240908T120000
DTEND;TZID=America/Denver:20240908T133000
DTSTAMP:20260423T051847
CREATED:20240821T195201Z
LAST-MODIFIED:20240821T195201Z
UID:10003003-1725796800-1725802200@fcchurch.org
SUMMARY:Fathers in the Field Info Lunch
DESCRIPTION:FCC has partnered with Fathers in the Field\, a ministry to the fatherless here in our community. If you’ve been looking for a place to serve\, this might just be it! \nCome and learn about what ministry to the fatherless is going to look like here at Fellowship at our Fathers in the Field Info Lunch. This is something everyone should know about\, so plan on being there! \nLunch will be served\, and childcare is available on request (fcchurch.org/childcare).
URL:https://fcchurch.org/event/fathers-in-the-field-info-lunch/
LOCATION:Fellowship Community Church\, 6263 S. Parker Rd\, Centennial\, CO\, 80016
CATEGORIES:all-church,bulletin,men,women
ATTACH;FMTTYPE=image/jpeg:https://fcchurch.org/wp-content/uploads/2024/08/FitF-Lunch-BANNER.jpg
END:VEVENT
BEGIN:VEVENT
DTSTART;TZID=America/Denver:20240908T155500
DTEND;TZID=America/Denver:20240908T180000
DTSTAMP:20260423T051847
CREATED:20240819T202017Z
LAST-MODIFIED:20240819T202443Z
UID:10002966-1725810900-1725818400@fcchurch.org
SUMMARY:AWANA
DESCRIPTION:Reaching boys and girls with the gospel of Jesus Christ\, and training them to serve Him. \n\n\n\n\nJoin us Sundays from 3:55pm – 6:00pm from September-May. Feel free to join at anytime.  \nFor more on AWANA\, please visit www.fcchurch.org/AWANA
URL:https://fcchurch.org/event/awana-2/2024-09-08/
LOCATION:Fellowship Community Church\, 6263 S. Parker Rd\, Centennial\, CO\, 80016
CATEGORIES:children,program
ATTACH;FMTTYPE=image/jpeg:https://fcchurch.org/wp-content/uploads/2021/10/awana-clubs-logo-color.jpeg
END:VEVENT
BEGIN:VEVENT
DTSTART;TZID=America/Denver:20240908T183000
DTEND;TZID=America/Denver:20240908T203000
DTSTAMP:20260423T051847
CREATED:20240807T180843Z
LAST-MODIFIED:20240807T180843Z
UID:10002823-1725820200-1725827400@fcchurch.org
SUMMARY:Conversations with Jesus
DESCRIPTION:We invite you to explore\, learn\, & grow in the practice of prayer. Come be enriched in your walk with Jesus both individually and communally. Focusing on corporate prayer for the corporate world and marketplace ministry. Arrive with open and expectant hearts and be devoted to prayer! \nFor more\, contact Joseph at jdhanapal@msn.com.
URL:https://fcchurch.org/event/conversations-with-jesus-10/
LOCATION:Fellowship Community Church\, 6263 S. Parker Rd\, Centennial\, CO\, 80016
CATEGORIES:adult,all-church,bulletin,children,event,men,women,youth
ATTACH;FMTTYPE=image/jpeg:https://fcchurch.org/wp-content/uploads/2024/08/2024-09-08-Conversations-with-Jesus-BANNER.jpg
END:VEVENT
END:VCALENDAR