BEGIN:VCALENDAR
VERSION:2.0
PRODID:-//Fellowship Community Church - ECPv6.11.0.1//NONSGML v1.0//EN
CALSCALE:GREGORIAN
METHOD:PUBLISH
X-WR-CALNAME:Fellowship Community Church
X-ORIGINAL-URL:https://fcchurch.org
X-WR-CALDESC:Events for Fellowship Community Church
REFRESH-INTERVAL;VALUE=DURATION:PT1H
X-Robots-Tag:noindex
X-PUBLISHED-TTL:PT1H
BEGIN:VTIMEZONE
TZID:America/Denver
BEGIN:DAYLIGHT
TZOFFSETFROM:-0700
TZOFFSETTO:-0600
TZNAME:MDT
DTSTART:20240310T090000
END:DAYLIGHT
BEGIN:STANDARD
TZOFFSETFROM:-0600
TZOFFSETTO:-0700
TZNAME:MST
DTSTART:20241103T080000
END:STANDARD
END:VTIMEZONE
BEGIN:VEVENT
DTSTART;TZID=America/Denver:20240915T120000
DTEND;TZID=America/Denver:20240915T140000
DTSTAMP:20260425T083653
CREATED:20240808T182727Z
LAST-MODIFIED:20240808T182727Z
UID:10002837-1726401600-1726408800@fcchurch.org
SUMMARY:Ministry Community Meeting
DESCRIPTION:Are you a ministry leader\, team member or volunteer here at FCC? If so\, you are invited to join us for our Ministry Community Meeting! Let’s come together over a meal and prepare for the good work God has for us in this new season. Please consider participating. \nRSVP to dcarter@fcchurch.org by 9/6 if you can attend.\nLet’s get ready\, together\, for the gospel work ahead of us! \nChildcare is available on request. Please request at the following link – www.fcchurch.org/childcare
URL:https://fcchurch.org/event/ministry-community-meeting-4/
LOCATION:Fellowship Community Church\, 6263 S. Parker Rd\, Centennial\, CO\, 80016
CATEGORIES:all-church,bulletin,event
ATTACH;FMTTYPE=image/jpeg:https://fcchurch.org/wp-content/uploads/2024/08/MCM-BANNER.jpg
END:VEVENT
BEGIN:VEVENT
DTSTART;TZID=America/Denver:20240915T155500
DTEND;TZID=America/Denver:20240915T180000
DTSTAMP:20260425T083653
CREATED:20240819T202017Z
LAST-MODIFIED:20240819T202443Z
UID:10002967-1726415700-1726423200@fcchurch.org
SUMMARY:AWANA
DESCRIPTION:Reaching boys and girls with the gospel of Jesus Christ\, and training them to serve Him. \n\n\n\n\nJoin us Sundays from 3:55pm – 6:00pm from September-May. Feel free to join at anytime.  \nFor more on AWANA\, please visit www.fcchurch.org/AWANA
URL:https://fcchurch.org/event/awana-2/2024-09-15/
LOCATION:Fellowship Community Church\, 6263 S. Parker Rd\, Centennial\, CO\, 80016
CATEGORIES:children,program
ATTACH;FMTTYPE=image/jpeg:https://fcchurch.org/wp-content/uploads/2021/10/awana-clubs-logo-color.jpeg
END:VEVENT
END:VCALENDAR