BEGIN:VCALENDAR
VERSION:2.0
PRODID:-//Fellowship Community Church - ECPv6.11.0.1//NONSGML v1.0//EN
CALSCALE:GREGORIAN
METHOD:PUBLISH
X-ORIGINAL-URL:https://fcchurch.org
X-WR-CALDESC:Events for Fellowship Community Church
REFRESH-INTERVAL;VALUE=DURATION:PT1H
X-Robots-Tag:noindex
X-PUBLISHED-TTL:PT1H
BEGIN:VTIMEZONE
TZID:America/Denver
BEGIN:DAYLIGHT
TZOFFSETFROM:-0700
TZOFFSETTO:-0600
TZNAME:MDT
DTSTART:20240310T090000
END:DAYLIGHT
BEGIN:STANDARD
TZOFFSETFROM:-0600
TZOFFSETTO:-0700
TZNAME:MST
DTSTART:20241103T080000
END:STANDARD
END:VTIMEZONE
BEGIN:VEVENT
DTSTART;TZID=America/Denver:20240922T120000
DTEND;TZID=America/Denver:20240922T133000
DTSTAMP:20260425T050940
CREATED:20240821T202819Z
LAST-MODIFIED:20240821T202819Z
UID:10003004-1727006400-1727011800@fcchurch.org
SUMMARY:Newcomer Lunch
DESCRIPTION:If you’re new to Fellowship\, you’re invited to join us for lunch with our staff\, elders\, and other new faces. RSVPs are appreciated but not required and can be done online or via the Church Center App. \nChildcare is available on request at fcchurch.org/childcare. \nFor more\, contact David Carter at dcarter@fcchurch.org or 303.699.1110.
URL:https://fcchurch.org/event/newcomer-lunch-2/
LOCATION:Fellowship Community Church\, 6263 S. Parker Rd\, Centennial\, CO\, 80016
CATEGORIES:all-church,bulletin,event
ATTACH;FMTTYPE=image/jpeg:https://fcchurch.org/wp-content/uploads/2023/12/2024-Newcomer-Lunch.jpg
END:VEVENT
BEGIN:VEVENT
DTSTART;TZID=America/Denver:20240922T155500
DTEND;TZID=America/Denver:20240922T180000
DTSTAMP:20260425T050940
CREATED:20240819T202017Z
LAST-MODIFIED:20240819T202443Z
UID:10002968-1727020500-1727028000@fcchurch.org
SUMMARY:AWANA
DESCRIPTION:Reaching boys and girls with the gospel of Jesus Christ\, and training them to serve Him. \n\n\n\n\nJoin us Sundays from 3:55pm – 6:00pm from September-May. Feel free to join at anytime.  \nFor more on AWANA\, please visit www.fcchurch.org/AWANA
URL:https://fcchurch.org/event/awana-2/2024-09-22/
LOCATION:Fellowship Community Church\, 6263 S. Parker Rd\, Centennial\, CO\, 80016
CATEGORIES:children,program
ATTACH;FMTTYPE=image/jpeg:https://fcchurch.org/wp-content/uploads/2021/10/awana-clubs-logo-color.jpeg
END:VEVENT
END:VCALENDAR