BEGIN:VCALENDAR
VERSION:2.0
PRODID:-//Fellowship Community Church - ECPv6.11.0.1//NONSGML v1.0//EN
CALSCALE:GREGORIAN
METHOD:PUBLISH
X-WR-CALNAME:Fellowship Community Church
X-ORIGINAL-URL:https://fcchurch.org
X-WR-CALDESC:Events for Fellowship Community Church
REFRESH-INTERVAL;VALUE=DURATION:PT1H
X-Robots-Tag:noindex
X-PUBLISHED-TTL:PT1H
BEGIN:VTIMEZONE
TZID:America/Denver
BEGIN:DAYLIGHT
TZOFFSETFROM:-0700
TZOFFSETTO:-0600
TZNAME:MDT
DTSTART:20240310T090000
END:DAYLIGHT
BEGIN:STANDARD
TZOFFSETFROM:-0600
TZOFFSETTO:-0700
TZNAME:MST
DTSTART:20241103T080000
END:STANDARD
END:VTIMEZONE
BEGIN:VEVENT
DTSTART;TZID=America/Denver:20240927T083000
DTEND;TZID=America/Denver:20241105T203000
DTSTAMP:20260422T195426
CREATED:20240829T214927Z
LAST-MODIFIED:20240912T152522Z
UID:10003133-1727425800-1730838600@fcchurch.org
SUMMARY:40 Days of Prayer
DESCRIPTION:Pray and reflect with us from Sep. 27th through Nov. 5th as we approach the 2024 Presidential Election. Embrace this movement for the Lord’s guidance and national unity. Let us know you are joining online\, via the Church Center App\, or at the Connection Center. \nFor more\, contact Joseph (jdhanapal@msn.com). \nHebrews 4:16\n“Let us then approach God’s throne of grace with confidence\, so that we may receive mercy and find grace to help us in our time of need.”
URL:https://fcchurch.org/event/40-days-of-prayer/
LOCATION:CO
CATEGORIES:all-church,bulletin,event,men,women,youth
ATTACH;FMTTYPE=image/jpeg:https://fcchurch.org/wp-content/uploads/2024/08/2024-40-Days-of-Prayer-BANNER.jpg
END:VEVENT
BEGIN:VEVENT
DTSTART;TZID=America/Denver:20241001T183000
DTEND;TZID=America/Denver:20241001T203000
DTSTAMP:20260422T195426
CREATED:20240815T193057Z
LAST-MODIFIED:20241121T161941Z
UID:10003070-1727807400-1727814600@fcchurch.org
SUMMARY:PRECEPTS Weekly Study (Tue. PM)
DESCRIPTION:Join us on Tuesday evenings (6:30-8:30p) or Wednesday mornings (9:00-11:00a). Come explore the meaning of our relatively short life under the sun and its relationship to eternity and God. Cost is $20 for Ecclesiastes and $30 for Luke. Sign up online\, in the lobby\, or via the Church Center app. \nFor more\, contact Jamie (303-601-8853/jrstrasser@comcast.net). \nChildcare is available on request. Please request at the following link – www.fcchurch.org/childcare. For more contact Jamie Strasser at jrstrasser@comcast.net or 303-601-8853
URL:https://fcchurch.org/event/precepts-weekly-study-tue-pm/2024-10-01/
LOCATION:Fellowship Community Church\, 6263 S. Parker Rd\, Centennial\, CO\, 80016
CATEGORIES:program,women
ATTACH;FMTTYPE=image/jpeg:https://fcchurch.org/wp-content/uploads/2024/08/2024-2025-Precepts-Banner.jpg
END:VEVENT
BEGIN:VEVENT
DTSTART;TZID=America/Denver:20241001T183000
DTEND;TZID=America/Denver:20241001T203000
DTSTAMP:20260422T195426
CREATED:20240815T193957Z
LAST-MODIFIED:20241121T162123Z
UID:10003096-1727807400-1727814600@fcchurch.org
SUMMARY:Men's Bible Study
DESCRIPTION:Men of Fellowship! Please join us for a discussion and study of the Bible Tuesday evenings. It will be an informal setting where we discuss the text\, ask questions and most importantly\, apply it to your life; facilitated by Paul Page. For more\, contact Paul (paul.page@comcast.net). \nWould love to see you there! \nChildcare is available upon request – www.fcchurch.org/childcare
URL:https://fcchurch.org/event/mens-bible-study-4/2024-10-01/
LOCATION:Fellowship Community Church\, 6263 S. Parker Rd\, Centennial\, CO\, 80016
CATEGORIES:men,program
ATTACH;FMTTYPE=image/jpeg:https://fcchurch.org/wp-content/uploads/2024/08/Men-BANNER.jpg
END:VEVENT
BEGIN:VEVENT
DTSTART;TZID=America/Denver:20241001T183000
DTEND;TZID=America/Denver:20241001T203000
DTSTAMP:20260422T195426
CREATED:20240815T195324Z
LAST-MODIFIED:20241121T162249Z
UID:10003122-1727807400-1727814600@fcchurch.org
SUMMARY:Women2Women Bible Study (Tue. PM)
DESCRIPTION:Join us beginning Sept. 10 & 11\, for a new season of Women2Women! \n\n\nTuesdays @6:30pm in Rm 18\n\nor\n\n\nWednesdays @9:30a in Rm 18\n\n\nJoin with six beloved Bible teachers who will help you study prayers in the Bible that can inspire your own. You’ll learn that God welcomes your praise and lament\, your thanksgiving and intercession. You’ll see examples of how to pray when you’re alone and when you’re gathered with others. Above all\, you’ll notice there’s no one right way to pray. As you draw near to God through prayer\, you’ll find your faith strengthened and your heart united to Christ. \nSign up online\, via the Church Center App\, or at the Connection Center. Cost is $25 for the book. (Scholarships are available!) \nFor more\, contact Tue.: Maggie (609-529-8961/maggiefuller53@gmail.com) or Wed.: Susan (303-680-1986/svc@gowebway.com). \nChildcare is available upon request – www.fcchurch.org/childcare
URL:https://fcchurch.org/event/women2women-bible-study-tue-pm/2024-10-01/
LOCATION:Fellowship Community Church\, 6263 S. Parker Rd\, Centennial\, CO\, 80016
CATEGORIES:program,women
ATTACH;FMTTYPE=image/jpeg:https://fcchurch.org/wp-content/uploads/2024/08/W2W-PM-BANNER.jpg
END:VEVENT
END:VCALENDAR