BEGIN:VCALENDAR
VERSION:2.0
PRODID:-//Fellowship Community Church - ECPv6.11.0.1//NONSGML v1.0//EN
CALSCALE:GREGORIAN
METHOD:PUBLISH
X-ORIGINAL-URL:https://fcchurch.org
X-WR-CALDESC:Events for Fellowship Community Church
REFRESH-INTERVAL;VALUE=DURATION:PT1H
X-Robots-Tag:noindex
X-PUBLISHED-TTL:PT1H
BEGIN:VTIMEZONE
TZID:America/Denver
BEGIN:DAYLIGHT
TZOFFSETFROM:-0700
TZOFFSETTO:-0600
TZNAME:MDT
DTSTART:20240310T090000
END:DAYLIGHT
BEGIN:STANDARD
TZOFFSETFROM:-0600
TZOFFSETTO:-0700
TZNAME:MST
DTSTART:20241103T080000
END:STANDARD
END:VTIMEZONE
BEGIN:VEVENT
DTSTART;TZID=America/Denver:20240927T083000
DTEND;TZID=America/Denver:20241105T203000
DTSTAMP:20260423T004138
CREATED:20240829T214927Z
LAST-MODIFIED:20240912T152522Z
UID:10003133-1727425800-1730838600@fcchurch.org
SUMMARY:40 Days of Prayer
DESCRIPTION:Pray and reflect with us from Sep. 27th through Nov. 5th as we approach the 2024 Presidential Election. Embrace this movement for the Lord’s guidance and national unity. Let us know you are joining online\, via the Church Center App\, or at the Connection Center. \nFor more\, contact Joseph (jdhanapal@msn.com). \nHebrews 4:16\n“Let us then approach God’s throne of grace with confidence\, so that we may receive mercy and find grace to help us in our time of need.”
URL:https://fcchurch.org/event/40-days-of-prayer/
LOCATION:CO
CATEGORIES:all-church,bulletin,event,men,women,youth
ATTACH;FMTTYPE=image/jpeg:https://fcchurch.org/wp-content/uploads/2024/08/2024-40-Days-of-Prayer-BANNER.jpg
END:VEVENT
BEGIN:VEVENT
DTSTART;TZID=America/Denver:20241002T090000
DTEND;TZID=America/Denver:20241002T110000
DTSTAMP:20260423T004138
CREATED:20240815T192455Z
LAST-MODIFIED:20241121T162017Z
UID:10003083-1727859600-1727866800@fcchurch.org
SUMMARY:PRECEPTS Weekly Study (Wed. AM)
DESCRIPTION:Join us on Tuesday evenings (6:30-8:30p) or Wednesday mornings (9:00-11:00a). \nCome explore the meaning of our relatively short life under the sun and its relationship to eternity and God. Cost is $20 for Ecclesiastes and $30 for Luke. \nFor more contact Jamie Strasser at jrstrasser@comcast.net or 303-601-8853. \nChildcare is available on request. Please request at the following link – www.fcchurch.org/childcare. 
URL:https://fcchurch.org/event/precepts-weekly-study-wed-am/2024-10-02/
LOCATION:Fellowship Community Church\, 6263 S. Parker Rd\, Centennial\, CO\, 80016
CATEGORIES:program,women
ATTACH;FMTTYPE=image/jpeg:https://fcchurch.org/wp-content/uploads/2024/08/2024-2025-Precepts-Banner.jpg
END:VEVENT
BEGIN:VEVENT
DTSTART;TZID=America/Denver:20241002T093000
DTEND;TZID=America/Denver:20241002T113000
DTSTAMP:20260423T004138
CREATED:20240815T195208Z
LAST-MODIFIED:20241121T162308Z
UID:10003109-1727861400-1727868600@fcchurch.org
SUMMARY:Women2Women Bible Study (Wed. AM)
DESCRIPTION:Join us beginning Sept. 10 & 11\, for a new season of Women2Women! \n\n\nTuesdays @6:30pm in Rm 18\n\nor\n\n\nWednesdays @9:30a in Rm 18\n\n\nJoin with six beloved Bible teachers who will help you study prayers in the Bible that can inspire your own. You’ll learn that God welcomes your praise and lament\, your thanksgiving and intercession. You’ll see examples of how to pray when you’re alone and when you’re gathered with others. Above all\, you’ll notice there’s no one right way to pray. As you draw near to God through prayer\, you’ll find your faith strengthened and your heart united to Christ. \nSign up online\, via the Church Center App\, or at the Connection Center. Cost is $25 for the book. (Scholarships are available!) \nFor more\, contact Tue.: Maggie (609-529-8961/maggiefuller53@gmail.com) or Wed.: Susan (303-680-1986/svc@gowebway.com). \nChildcare is available upon request – www.fcchurch.org/childcare
URL:https://fcchurch.org/event/women2women-bible-study-wed-am/2024-10-02/
LOCATION:Fellowship Community Church\, 6263 S. Parker Rd\, Centennial\, CO\, 80016
CATEGORIES:program,women
ATTACH;FMTTYPE=image/jpeg:https://fcchurch.org/wp-content/uploads/2024/08/W2W-AM-BANNER.jpg
END:VEVENT
BEGIN:VEVENT
DTSTART;TZID=America/Denver:20241002T180000
DTEND;TZID=America/Denver:20241002T200000
DTSTAMP:20260423T004138
CREATED:20240807T205422Z
LAST-MODIFIED:20240807T210445Z
UID:10002828-1727892000-1727899200@fcchurch.org
SUMMARY:GriefShare
DESCRIPTION:GriefShare is a grief recovery support group where you can find help and healing for the hurt of losing a loved one. Join a friendly\, caring group of people who will walk alongside you through one of life’s most difficult experiences. You can simply show up or sign up beforehand at the Connection Center or online. \nWednesdays from 6-8pm starting September 4th through November 27th. The cost is $20 for materials. \nFor more\, contact Kathy at 303.696.1414
URL:https://fcchurch.org/event/griefshare-4/2024-10-02/
LOCATION:Fellowship Community Church\, 6263 S. Parker Rd\, Centennial\, CO\, 80016
CATEGORIES:adult,all-church,bulletin
ATTACH;FMTTYPE=image/jpeg:https://fcchurch.org/wp-content/uploads/2024/08/GriefShare-BANNER.jpg
END:VEVENT
END:VCALENDAR