BEGIN:VCALENDAR
VERSION:2.0
PRODID:-//Fellowship Community Church - ECPv6.11.0.1//NONSGML v1.0//EN
CALSCALE:GREGORIAN
METHOD:PUBLISH
X-ORIGINAL-URL:https://fcchurch.org
X-WR-CALDESC:Events for Fellowship Community Church
REFRESH-INTERVAL;VALUE=DURATION:PT1H
X-Robots-Tag:noindex
X-PUBLISHED-TTL:PT1H
BEGIN:VTIMEZONE
TZID:America/Denver
BEGIN:DAYLIGHT
TZOFFSETFROM:-0700
TZOFFSETTO:-0600
TZNAME:MDT
DTSTART:20240310T090000
END:DAYLIGHT
BEGIN:STANDARD
TZOFFSETFROM:-0600
TZOFFSETTO:-0700
TZNAME:MST
DTSTART:20241103T080000
END:STANDARD
END:VTIMEZONE
BEGIN:VEVENT
DTSTART;TZID=America/Denver:20240927T083000
DTEND;TZID=America/Denver:20241105T203000
DTSTAMP:20260422T213047
CREATED:20240829T214927Z
LAST-MODIFIED:20240912T152522Z
UID:10003133-1727425800-1730838600@fcchurch.org
SUMMARY:40 Days of Prayer
DESCRIPTION:Pray and reflect with us from Sep. 27th through Nov. 5th as we approach the 2024 Presidential Election. Embrace this movement for the Lord’s guidance and national unity. Let us know you are joining online\, via the Church Center App\, or at the Connection Center. \nFor more\, contact Joseph (jdhanapal@msn.com). \nHebrews 4:16\n“Let us then approach God’s throne of grace with confidence\, so that we may receive mercy and find grace to help us in our time of need.”
URL:https://fcchurch.org/event/40-days-of-prayer/
LOCATION:CO
CATEGORIES:all-church,bulletin,event,men,women,youth
ATTACH;FMTTYPE=image/jpeg:https://fcchurch.org/wp-content/uploads/2024/08/2024-40-Days-of-Prayer-BANNER.jpg
END:VEVENT
BEGIN:VEVENT
DTSTART;TZID=America/Denver:20241102T093000
DTEND;TZID=America/Denver:20241102T113000
DTSTAMP:20260422T213047
CREATED:20241009T200457Z
LAST-MODIFIED:20241009T200457Z
UID:10003145-1730539800-1730547000@fcchurch.org
SUMMARY:Coffee & Conversation
DESCRIPTION:Share a morning of coffee and breakfast with the women of FCC! Bring a friend and join us at Panera Bread (6770 S. Cornerstar Way E). Let’s make new connections and deepen relationships with amazing ladies. \nLet us know you’re coming by signing up in the lobby or online. For more\, contact Susan at 303.680.1986.
URL:https://fcchurch.org/event/coffee-conversation-10/
LOCATION:Panera Bread\, 6770 S Cornerstar Way Suite E\, Aurora\, CO\, 80016\, United States
CATEGORIES:bulletin,event,women
ATTACH;FMTTYPE=image/jpeg:https://fcchurch.org/wp-content/uploads/2024/10/2024-11-02-Coffee-and-Conversation-BANNER.jpg
END:VEVENT
BEGIN:VEVENT
DTSTART;TZID=America/Denver:20241102T113000
DTEND;TZID=America/Denver:20241102T140000
DTSTAMP:20260422T213047
CREATED:20241219T173828Z
LAST-MODIFIED:20241219T173828Z
UID:10003287-1730547000-1730556000@fcchurch.org
SUMMARY:Women of Worth
DESCRIPTION:Ladies\, are you on your own (single\, divorced\, widowed) in this season? Do you ever wish there was a fellowship group where you could share with other women on their own? Women of Worth (WoW) is sponsoring a luncheon for just that purpose. Come and join us on the 1st Saturday of each month from 11:30a-2:00p for a potluck lunch and great fellowship! \nSign up at the connection center or contact Kendell Benson (703-853-9759). \nWe look forward to seeing you then.
URL:https://fcchurch.org/event/women-of-worth-4/2024-11-02/
LOCATION:Fellowship Community Church\, 6263 S. Parker Rd\, Centennial\, CO\, 80016
CATEGORIES:women
ATTACH;FMTTYPE=image/jpeg:https://fcchurch.org/wp-content/uploads/2023/01/Women-of-Worth.jpg
END:VEVENT
BEGIN:VEVENT
DTSTART;TZID=America/Denver:20241102T140000
DTEND;TZID=America/Denver:20241102T170000
DTSTAMP:20260422T213047
CREATED:20241010T211142Z
LAST-MODIFIED:20241010T211142Z
UID:10003146-1730556000-1730566800@fcchurch.org
SUMMARY:40 Days of Prayer: ENCOUNTER
DESCRIPTION:We are gathering for an extended time to encounter Jesus and pray for revival\, unity\, government\, the election\, and transformation. Sign up online or at the Connection Center to let us know you are coming.\n\nFor more\, contact Joseph at jdhanapal@msn.com.
URL:https://fcchurch.org/event/40-days-of-prayer-encounter/
LOCATION:Fellowship Community Church\, 6263 S. Parker Rd\, Centennial\, CO\, 80016
CATEGORIES:adult,all-church,bulletin,children,event,men,women,youth
ATTACH;FMTTYPE=image/jpeg:https://fcchurch.org/wp-content/uploads/2024/10/Encounter-BANNER.jpg
END:VEVENT
END:VCALENDAR