BEGIN:VCALENDAR
VERSION:2.0
PRODID:-//Fellowship Community Church - ECPv6.11.0.1//NONSGML v1.0//EN
CALSCALE:GREGORIAN
METHOD:PUBLISH
X-ORIGINAL-URL:https://fcchurch.org
X-WR-CALDESC:Events for Fellowship Community Church
REFRESH-INTERVAL;VALUE=DURATION:PT1H
X-Robots-Tag:noindex
X-PUBLISHED-TTL:PT1H
BEGIN:VTIMEZONE
TZID:America/Denver
BEGIN:DAYLIGHT
TZOFFSETFROM:-0700
TZOFFSETTO:-0600
TZNAME:MDT
DTSTART:20240310T090000
END:DAYLIGHT
BEGIN:STANDARD
TZOFFSETFROM:-0600
TZOFFSETTO:-0700
TZNAME:MST
DTSTART:20241103T080000
END:STANDARD
END:VTIMEZONE
BEGIN:VEVENT
DTSTART;TZID=America/Denver:20240927T083000
DTEND;TZID=America/Denver:20241105T203000
DTSTAMP:20260423T004010
CREATED:20240829T214927Z
LAST-MODIFIED:20240912T152522Z
UID:10003133-1727425800-1730838600@fcchurch.org
SUMMARY:40 Days of Prayer
DESCRIPTION:Pray and reflect with us from Sep. 27th through Nov. 5th as we approach the 2024 Presidential Election. Embrace this movement for the Lord’s guidance and national unity. Let us know you are joining online\, via the Church Center App\, or at the Connection Center. \nFor more\, contact Joseph (jdhanapal@msn.com). \nHebrews 4:16\n“Let us then approach God’s throne of grace with confidence\, so that we may receive mercy and find grace to help us in our time of need.”
URL:https://fcchurch.org/event/40-days-of-prayer/
LOCATION:CO
CATEGORIES:all-church,bulletin,event,men,women,youth
ATTACH;FMTTYPE=image/jpeg:https://fcchurch.org/wp-content/uploads/2024/08/2024-40-Days-of-Prayer-BANNER.jpg
END:VEVENT
BEGIN:VEVENT
DTSTART;TZID=America/Denver:20241103T120000
DTEND;TZID=America/Denver:20241103T130000
DTSTAMP:20260423T004010
CREATED:20241017T173839Z
LAST-MODIFIED:20241017T173946Z
UID:10003273-1730635200-1730638800@fcchurch.org
SUMMARY:Town Hall
DESCRIPTION:Our Partnership Summit and Annual Business meeting are right around the corner on Sun. Nov. 17! \nIn preparation for the celebration\, and for our 2025 ministry year\, Annual Reports will be available by Oct. 27th. As you read through the reports\, look at the proposed budget\, and consider the items up for vote\, you may have questions. We will hold Town Hall meetings on Nov. 3 and Nov. 10 at 12pm in Room 2/3 to discuss those items and help answer those questions. Please consider attending one of the Town Halls. For more\, contact David Carter at dcarter@fcchurch.org. \nYou will also be able to access our 2024 Annual Report online at fcchurch.org/annualreport after Oct. 27th.
URL:https://fcchurch.org/event/town-hall-2/2024-11-03/
LOCATION:Fellowship Community Church\, 6263 S. Parker Rd\, Centennial\, CO\, 80016
CATEGORIES:adult,all-church,bulletin,event
ATTACH;FMTTYPE=image/jpeg:https://fcchurch.org/wp-content/uploads/2024/10/2024-Partnership-Summit-BANNER.jpg
END:VEVENT
BEGIN:VEVENT
DTSTART;TZID=America/Denver:20241103T155500
DTEND;TZID=America/Denver:20241103T180000
DTSTAMP:20260423T004010
CREATED:20240819T202017Z
LAST-MODIFIED:20240819T202443Z
UID:10002974-1730649300-1730656800@fcchurch.org
SUMMARY:AWANA
DESCRIPTION:Reaching boys and girls with the gospel of Jesus Christ\, and training them to serve Him. \n\n\n\n\nJoin us Sundays from 3:55pm – 6:00pm from September-May. Feel free to join at anytime.  \nFor more on AWANA\, please visit www.fcchurch.org/AWANA
URL:https://fcchurch.org/event/awana-2/2024-11-03/
LOCATION:Fellowship Community Church\, 6263 S. Parker Rd\, Centennial\, CO\, 80016
CATEGORIES:children,program
ATTACH;FMTTYPE=image/jpeg:https://fcchurch.org/wp-content/uploads/2021/10/awana-clubs-logo-color.jpeg
END:VEVENT
END:VCALENDAR