BEGIN:VCALENDAR
VERSION:2.0
PRODID:-//Fellowship Community Church - ECPv6.11.0.1//NONSGML v1.0//EN
CALSCALE:GREGORIAN
METHOD:PUBLISH
X-ORIGINAL-URL:https://fcchurch.org
X-WR-CALDESC:Events for Fellowship Community Church
REFRESH-INTERVAL;VALUE=DURATION:PT1H
X-Robots-Tag:noindex
X-PUBLISHED-TTL:PT1H
BEGIN:VTIMEZONE
TZID:America/Denver
BEGIN:DAYLIGHT
TZOFFSETFROM:-0700
TZOFFSETTO:-0600
TZNAME:MDT
DTSTART:20250309T090000
END:DAYLIGHT
BEGIN:STANDARD
TZOFFSETFROM:-0600
TZOFFSETTO:-0700
TZNAME:MST
DTSTART:20251102T080000
END:STANDARD
END:VTIMEZONE
BEGIN:VEVENT
DTSTART;TZID=America/Denver:20251029T090000
DTEND;TZID=America/Denver:20251029T110000
DTSTAMP:20260422T164429
CREATED:20251016T170658Z
LAST-MODIFIED:20251016T170659Z
UID:10003778-1761728400-1761735600@fcchurch.org
SUMMARY:PRECEPTS Weekly Study (WED. AM)
DESCRIPTION:Wednesdays at 9:00am. Begins September 10th! \nLearn to study the Psalms’ diverse range of poetic expressions and reflections on God’s character. Psalms provides a rich tapestry of spiritual insight and emotional honesty. This 9 week study of Psalms 1-41 for women costs $34. Sign up online\, via the Church Center App\, or at the Connection Center. For more\, contact Jamie Strasser (jrstrasser@comcast.net/303-601-8853). \nChildcare is available on request at www.fcchurch.org/childcare
URL:https://fcchurch.org/event/precepts-weekly-study-wed-am-4-2/2025-10-29/
LOCATION:Fellowship Community Church\, 6263 S. Parker Rd\, Centennial\, CO\, 80016
CATEGORIES:program,women
ATTACH;FMTTYPE=image/jpeg:https://fcchurch.org/wp-content/uploads/2025/08/2025-2026-Precepts-Banner.jpg
END:VEVENT
BEGIN:VEVENT
DTSTART;TZID=America/Denver:20251029T093000
DTEND;TZID=America/Denver:20251029T113000
DTSTAMP:20260422T164429
CREATED:20251016T170711Z
LAST-MODIFIED:20251112T194217Z
UID:10003788-1761730200-1761737400@fcchurch.org
SUMMARY:Women2Women Bible Study (WED. AM)
DESCRIPTION:Join us Wednesdays @9:30a in Rm. 18 beginning September 10th\, for a new study for Women2Women! \nELIJAH: Faith and Fire \nJoin Priscilla Shirer on this 7-session journey through the life and times of the prophet Elijah to discover how the fire on Mount Carmel was forged in the valley of famine. And how the emboldened\, fiery faith you desire is being fashioned by God in your life right now. \nSign up online\, via the Church Center App\, or at the Connection Center. Cost is $20 for the book. (Scholarships are available!) \nFor more\, contact:\nTuesdays: Maggie (609-529-8961/maggiefuller53@gmail.com)\nWednesdays: Susan (303-680-1986/svc@gowebway.com). \nChildcare is available on request at www.fcchurch.org/childcare
URL:https://fcchurch.org/event/women2women-bible-study-wed-am-4-2/2025-10-29/
LOCATION:Fellowship Community Church\, 6263 S. Parker Rd\, Centennial\, CO\, 80016
CATEGORIES:program,women
ATTACH;FMTTYPE=image/jpeg:https://fcchurch.org/wp-content/uploads/2025/08/2025-Womens-BANNER.jpg
END:VEVENT
END:VCALENDAR