BEGIN:VCALENDAR
VERSION:2.0
PRODID:-//Fellowship Community Church - ECPv6.11.0.1//NONSGML v1.0//EN
CALSCALE:GREGORIAN
METHOD:PUBLISH
X-WR-CALNAME:Fellowship Community Church
X-ORIGINAL-URL:https://fcchurch.org
X-WR-CALDESC:Events for Fellowship Community Church
REFRESH-INTERVAL;VALUE=DURATION:PT1H
X-Robots-Tag:noindex
X-PUBLISHED-TTL:PT1H
BEGIN:VTIMEZONE
TZID:America/Denver
BEGIN:DAYLIGHT
TZOFFSETFROM:-0700
TZOFFSETTO:-0600
TZNAME:MDT
DTSTART:20250309T090000
END:DAYLIGHT
BEGIN:STANDARD
TZOFFSETFROM:-0600
TZOFFSETTO:-0700
TZNAME:MST
DTSTART:20251102T080000
END:STANDARD
END:VTIMEZONE
BEGIN:VEVENT
DTSTART;TZID=America/Denver:20251108T083000
DTEND;TZID=America/Denver:20251108T103000
DTSTAMP:20260422T150418
CREATED:20251015T172829Z
LAST-MODIFIED:20251015T172829Z
UID:10003573-1762590600-1762597800@fcchurch.org
SUMMARY:Men's Breakfast
DESCRIPTION:Men of Fellowship! Join us on the 2nd Saturday of each month for a breakfast with men of all generations. It’s an opportunity to get to know some of the other guys who call FCC their family. Good food and good company… who could ask for more? \nBe sure to invite your sons\, neighbors\, grandparents and more. We’re better together! \nA $5 donation per person is appreciated to help cover costs.
URL:https://fcchurch.org/event/mens-breakfast-8-3/
LOCATION:Fellowship Community Church\, 6263 S. Parker Rd\, Centennial\, CO\, 80016
CATEGORIES:bulletin,event,men
ATTACH;FMTTYPE=image/jpeg:https://fcchurch.org/wp-content/uploads/2021/10/breakfast-scaled.jpeg
ORGANIZER;CN="Paul Page":MAILTO:paul.page@comcast.net
END:VEVENT
END:VCALENDAR