BEGIN:VCALENDAR
VERSION:2.0
PRODID:-//Fellowship Community Church - ECPv6.11.0.1//NONSGML v1.0//EN
CALSCALE:GREGORIAN
METHOD:PUBLISH
X-ORIGINAL-URL:https://fcchurch.org
X-WR-CALDESC:Events for Fellowship Community Church
REFRESH-INTERVAL;VALUE=DURATION:PT1H
X-Robots-Tag:noindex
X-PUBLISHED-TTL:PT1H
BEGIN:VTIMEZONE
TZID:America/Denver
BEGIN:DAYLIGHT
TZOFFSETFROM:-0700
TZOFFSETTO:-0600
TZNAME:MDT
DTSTART:20250309T090000
END:DAYLIGHT
BEGIN:STANDARD
TZOFFSETFROM:-0600
TZOFFSETTO:-0700
TZNAME:MST
DTSTART:20251102T080000
END:STANDARD
END:VTIMEZONE
BEGIN:VEVENT
DTSTART;VALUE=DATE:20251109
DTEND;VALUE=DATE:20251124
DTSTAMP:20260422T163814
CREATED:20251106T233320Z
LAST-MODIFIED:20251106T233320Z
UID:10003871-1762646400-1763942399@fcchurch.org
SUMMARY:Giving Tree Nominations
DESCRIPTION:Nominate an FCC family in need of a little extra help for a special gift this year! \nThis Christmas we wanted to bless the families in our church who may be having a “tighter” year than usual. You can nominate a family at the Connection Center\, or by clicking here. Please nominate FCC families by Sunday\, November 23. \nAlso\, beginning December 7\, the Giving Tree will be set up in the foyer with “ornaments.” You can take an ornament and then purchase a $10\, $20\, or $30 gift card(s) at Walmart\, Target\, or King Soopers. Please indicate the amount of the gift card(s) and return the card(s) back to the church. Drop the gift card(s) in the secured box located by the Giving Tree\, no later than December 21. \nThank you for sharing the love of Jesus!
URL:https://fcchurch.org/event/giving-tree-nominations-3/
LOCATION:Fellowship Community Church\, 6263 S. Parker Rd\, Centennial\, CO\, 80016
CATEGORIES:all-church,bulletin
ATTACH;FMTTYPE=image/jpeg:https://fcchurch.org/wp-content/uploads/2022/11/2022-Giving-Tree-Banner.jpg
END:VEVENT
END:VCALENDAR