BEGIN:VCALENDAR
VERSION:2.0
PRODID:-//Fellowship Community Church - ECPv6.11.0.1//NONSGML v1.0//EN
CALSCALE:GREGORIAN
METHOD:PUBLISH
X-ORIGINAL-URL:https://fcchurch.org
X-WR-CALDESC:Events for Fellowship Community Church
REFRESH-INTERVAL;VALUE=DURATION:PT1H
X-Robots-Tag:noindex
X-PUBLISHED-TTL:PT1H
BEGIN:VTIMEZONE
TZID:America/Denver
BEGIN:DAYLIGHT
TZOFFSETFROM:-0700
TZOFFSETTO:-0600
TZNAME:MDT
DTSTART:20250309T090000
END:DAYLIGHT
BEGIN:STANDARD
TZOFFSETFROM:-0600
TZOFFSETTO:-0700
TZNAME:MST
DTSTART:20251102T080000
END:STANDARD
END:VTIMEZONE
BEGIN:VEVENT
DTSTART;VALUE=DATE:20251109
DTEND;VALUE=DATE:20251124
DTSTAMP:20260422T150505
CREATED:20251106T233320Z
LAST-MODIFIED:20251106T233320Z
UID:10003871-1762646400-1763942399@fcchurch.org
SUMMARY:Giving Tree Nominations
DESCRIPTION:Nominate an FCC family in need of a little extra help for a special gift this year! \nThis Christmas we wanted to bless the families in our church who may be having a “tighter” year than usual. You can nominate a family at the Connection Center\, or by clicking here. Please nominate FCC families by Sunday\, November 23. \nAlso\, beginning December 7\, the Giving Tree will be set up in the foyer with “ornaments.” You can take an ornament and then purchase a $10\, $20\, or $30 gift card(s) at Walmart\, Target\, or King Soopers. Please indicate the amount of the gift card(s) and return the card(s) back to the church. Drop the gift card(s) in the secured box located by the Giving Tree\, no later than December 21. \nThank you for sharing the love of Jesus!
URL:https://fcchurch.org/event/giving-tree-nominations-3/
LOCATION:Fellowship Community Church\, 6263 S. Parker Rd\, Centennial\, CO\, 80016
CATEGORIES:all-church,bulletin
ATTACH;FMTTYPE=image/jpeg:https://fcchurch.org/wp-content/uploads/2022/11/2022-Giving-Tree-Banner.jpg
END:VEVENT
BEGIN:VEVENT
DTSTART;TZID=America/Denver:20251111T183000
DTEND;TZID=America/Denver:20251111T203000
DTSTAMP:20260422T150505
CREATED:20251016T170721Z
LAST-MODIFIED:20251112T194232Z
UID:10003804-1762885800-1762893000@fcchurch.org
SUMMARY:Women2Women Bible Study (TUE. PM)
DESCRIPTION:Join us Tuesdays @6:30pm in Rm. 18 beginning September 9th\, for a new study for Women2Women! \nELIJAH: Faith and Fire \nJoin Priscilla Shirer on this 7-session journey through the life and times of the prophet Elijah to discover how the fire on Mount Carmel was forged in the valley of famine. And how the emboldened\, fiery faith you desire is being fashioned by God in your life right now. \nSign up online\, via the Church Center App\, or at the Connection Center. Cost is $20 for the book. (Scholarships are available!) \nFor more\, contact:\nTuesdays: Maggie (609-529-8961/maggiefuller53@gmail.com)\nWednesdays: Susan (303-680-1986/svc@gowebway.com). \nChildcare is available on request at www.fcchurch.org/childcare
URL:https://fcchurch.org/event/women2women-bible-study-tue-pm-4-2/2025-11-11/
LOCATION:Fellowship Community Church\, 6263 S. Parker Rd\, Centennial\, CO\, 80016
CATEGORIES:program,women
ATTACH;FMTTYPE=image/jpeg:https://fcchurch.org/wp-content/uploads/2025/08/2025-Womens-BANNER.jpg
END:VEVENT
BEGIN:VEVENT
DTSTART;TZID=America/Denver:20251111T183000
DTEND;TZID=America/Denver:20251111T203000
DTSTAMP:20260422T150505
CREATED:20251016T170741Z
LAST-MODIFIED:20251016T170742Z
UID:10003770-1762885800-1762893000@fcchurch.org
SUMMARY:PRECEPTS Weekly Study (TUE. PM)
DESCRIPTION:Tuesdays at 6:30pm. Begins September 9th! \nLearn to study the Psalms’ diverse range of poetic expressions and reflections on God’s character. Psalms provides a rich tapestry of spiritual insight and emotional honesty. This 9 week study of Psalms 1-41 for women costs $34. Sign up online\, via the Church Center App\, or at the Connection Center. For more\, contact Jamie Strasser (jrstrasser@comcast.net/303-601-8853). \nChildcare is available on request at www.fcchurch.org/childcare
URL:https://fcchurch.org/event/precepts-weekly-study-tue-pm-5-2/2025-11-11/
LOCATION:Fellowship Community Church\, 6263 S. Parker Rd\, Centennial\, CO\, 80016
CATEGORIES:program,women
ATTACH;FMTTYPE=image/jpeg:https://fcchurch.org/wp-content/uploads/2025/08/2025-2026-Precepts-Banner.jpg
END:VEVENT
BEGIN:VEVENT
DTSTART;TZID=America/Denver:20251111T183000
DTEND;TZID=America/Denver:20251111T203000
DTSTAMP:20260422T150505
CREATED:20251016T170756Z
LAST-MODIFIED:20251016T170756Z
UID:10003716-1762885800-1762893000@fcchurch.org
SUMMARY:Men's Bible Study
DESCRIPTION:Men of Fellowship! Please join us for a discussion and study of Scripture Tuesday evenings. It will be an informal setting where we discuss the text\, ask questions and most importantly\, apply it to your life; facilitated by Paul Page. For more\, contact Paul (paul.page@comcast.net). \nWould love to see you there! \nChildcare is available upon request – www.fcchurch.org/childcare
URL:https://fcchurch.org/event/mens-bible-study-6-2/2025-11-11/
LOCATION:Fellowship Community Church\, 6263 S. Parker Rd\, Centennial\, CO\, 80016
CATEGORIES:men,program
ATTACH;FMTTYPE=image/jpeg:https://fcchurch.org/wp-content/uploads/2025/08/2025-Mens-BANNER.jpg
END:VEVENT
END:VCALENDAR