BEGIN:VCALENDAR
VERSION:2.0
PRODID:-//Fellowship Community Church - ECPv6.11.0.1//NONSGML v1.0//EN
CALSCALE:GREGORIAN
METHOD:PUBLISH
X-WR-CALNAME:Fellowship Community Church
X-ORIGINAL-URL:https://fcchurch.org
X-WR-CALDESC:Events for Fellowship Community Church
REFRESH-INTERVAL;VALUE=DURATION:PT1H
X-Robots-Tag:noindex
X-PUBLISHED-TTL:PT1H
BEGIN:VTIMEZONE
TZID:America/Denver
BEGIN:DAYLIGHT
TZOFFSETFROM:-0700
TZOFFSETTO:-0600
TZNAME:MDT
DTSTART:20250309T090000
END:DAYLIGHT
BEGIN:STANDARD
TZOFFSETFROM:-0600
TZOFFSETTO:-0700
TZNAME:MST
DTSTART:20251102T080000
END:STANDARD
END:VTIMEZONE
BEGIN:VEVENT
DTSTART;TZID=America/Denver:20251209T183000
DTEND;TZID=America/Denver:20251209T203000
DTSTAMP:20260422T214922
CREATED:20251016T170756Z
LAST-MODIFIED:20251016T170756Z
UID:10003720-1765305000-1765312200@fcchurch.org
SUMMARY:Men's Bible Study
DESCRIPTION:Men of Fellowship! Please join us for a discussion and study of Scripture Tuesday evenings. It will be an informal setting where we discuss the text\, ask questions and most importantly\, apply it to your life; facilitated by Paul Page. For more\, contact Paul (paul.page@comcast.net). \nWould love to see you there! \nChildcare is available upon request – www.fcchurch.org/childcare
URL:https://fcchurch.org/event/mens-bible-study-6-2/2025-12-09/
LOCATION:Fellowship Community Church\, 6263 S. Parker Rd\, Centennial\, CO\, 80016
CATEGORIES:men,program
ATTACH;FMTTYPE=image/jpeg:https://fcchurch.org/wp-content/uploads/2025/08/2025-Mens-BANNER.jpg
END:VEVENT
END:VCALENDAR