BEGIN:VCALENDAR
VERSION:2.0
PRODID:-//Fellowship Community Church - ECPv6.11.0.1//NONSGML v1.0//EN
CALSCALE:GREGORIAN
METHOD:PUBLISH
X-WR-CALNAME:Fellowship Community Church
X-ORIGINAL-URL:https://fcchurch.org
X-WR-CALDESC:Events for Fellowship Community Church
REFRESH-INTERVAL;VALUE=DURATION:PT1H
X-Robots-Tag:noindex
X-PUBLISHED-TTL:PT1H
BEGIN:VTIMEZONE
TZID:America/Denver
BEGIN:DAYLIGHT
TZOFFSETFROM:-0700
TZOFFSETTO:-0600
TZNAME:MDT
DTSTART:20250309T090000
END:DAYLIGHT
BEGIN:STANDARD
TZOFFSETFROM:-0600
TZOFFSETTO:-0700
TZNAME:MST
DTSTART:20251102T080000
END:STANDARD
END:VTIMEZONE
BEGIN:VEVENT
DTSTART;TZID=America/Denver:20251213T083000
DTEND;TZID=America/Denver:20251213T103000
DTSTAMP:20260422T165204
CREATED:20250219T161002Z
LAST-MODIFIED:20260226T201254Z
UID:10003574-1765614600-1765621800@fcchurch.org
SUMMARY:Men's Breakfast
DESCRIPTION:Men of Fellowship! Join us on the 2nd Saturday of each month for a breakfast with men of all generations. It’s an opportunity to get to know some of the other guys who call FCC their family. Good food and good company… who could ask for more? \nBe sure to invite your sons\, neighbors\, grandparents and more. We’re better together! \nA $5 donation per person is appreciated to help cover costs.
URL:https://fcchurch.org/event/mens-breakfast-8/2025-12-13/
LOCATION:Fellowship Community Church\, 6263 S. Parker Rd\, Centennial\, CO\, 80016
CATEGORIES:bulletin,event,men
ATTACH;FMTTYPE=image/jpeg:https://fcchurch.org/wp-content/uploads/2021/10/breakfast-scaled.jpeg
ORGANIZER;CN="Paul Page":MAILTO:paul.page@comcast.net
END:VEVENT
BEGIN:VEVENT
DTSTART;TZID=America/Denver:20251213T173000
DTEND;TZID=America/Denver:20251213T200000
DTSTAMP:20260422T165204
CREATED:20251029T170925Z
LAST-MODIFIED:20251029T170925Z
UID:10003839-1765647000-1765656000@fcchurch.org
SUMMARY:Live Nativity
DESCRIPTION:We are overjoyed to host you once again at our Live Nativity! A live experience of the real Christmas story as revealed through Scripture. \nEnjoy this experience with your family\, friends\, neighbors\, and co-workers! Tickets are free and rides run 5:30pm through 8pm. \nOur Live Nativity isn’t just about the ride through history; it’s about sharing the Christmas spirit together in community. Since you can expect to be at this event for an hour from arrival through the end of the ride\, we’ll have cookies & cocoa\, Christmas videos\, and crafts for the littles. \nThe Live Nativity itself is a “hayride” (without straw or hay)\, and\, this year\, both of our trailers will have spots for wheelchairs. Be sure to bundle up; it can be chilly on the 15-minute experience! \nFor groups\, please wait to get tickets until your entire party has arrived. \nThe story of Jesus deserves to be told\, especially in this holiday season. We love doing this for our community. Circle the date – you’ll want to experience Live Nativity! \nQuestions? Please contact Pastor David at dcarter@fcchurch.org or at (303) 928-7102. \n•  •  •  •  • \nIf you want to help our community hear the real reason for Christmas\, consider volunteering to welcome\, serve hot chocolate & cookies\, get people seated for the ride\, act out the story of Jesus with the live animals\, bring cookies\, and more! Sign up in-person in the Lobby or online HERE! \n 
URL:https://fcchurch.org/event/live-nativity-4/
LOCATION:Fellowship Community Church\, 6263 S. Parker Rd\, Centennial\, CO\, 80016
CATEGORIES:adult,all-church,bulletin,children,men,women,youth
ATTACH;FMTTYPE=image/jpeg:https://fcchurch.org/wp-content/uploads/2025/10/2025-Live-Nativity-BANNER.jpeg
END:VEVENT
END:VCALENDAR