BEGIN:VCALENDAR
VERSION:2.0
PRODID:-//Fellowship Community Church - ECPv6.11.0.1//NONSGML v1.0//EN
CALSCALE:GREGORIAN
METHOD:PUBLISH
X-WR-CALNAME:Fellowship Community Church
X-ORIGINAL-URL:https://fcchurch.org
X-WR-CALDESC:Events for Fellowship Community Church
REFRESH-INTERVAL;VALUE=DURATION:PT1H
X-Robots-Tag:noindex
X-PUBLISHED-TTL:PT1H
BEGIN:VTIMEZONE
TZID:America/Denver
BEGIN:DAYLIGHT
TZOFFSETFROM:-0700
TZOFFSETTO:-0600
TZNAME:MDT
DTSTART:20260308T090000
END:DAYLIGHT
BEGIN:STANDARD
TZOFFSETFROM:-0600
TZOFFSETTO:-0700
TZNAME:MST
DTSTART:20261101T080000
END:STANDARD
END:VTIMEZONE
BEGIN:VEVENT
DTSTART;TZID=America/Denver:20260104T183000
DTEND;TZID=America/Denver:20260104T203000
DTSTAMP:20260422T095343
CREATED:20251210T223759Z
LAST-MODIFIED:20251210T223759Z
UID:10004150-1767551400-1767558600@fcchurch.org
SUMMARY:Conversations with Jesus
DESCRIPTION:We invite you to explore\, learn\, & grow in the practice of prayer. Seek the Lord in prayer together with brothers and sisters in Christ. Arrive with open and expectant hearts and be devoted to prayer! \nFor more\, contact Joseph at jdhanapal@msn.com.
URL:https://fcchurch.org/event/conversations-with-jesus-23/
LOCATION:Fellowship Community Church\, 6263 S. Parker Rd\, Centennial\, CO\, 80016
CATEGORIES:adult,all-church,bulletin,event,men,women,youth
ATTACH;FMTTYPE=image/jpeg:https://fcchurch.org/wp-content/uploads/2025/03/2025-04-06-Conversations-BANNER.jpg
END:VEVENT
END:VCALENDAR