BEGIN:VCALENDAR
VERSION:2.0
PRODID:-//Fellowship Community Church - ECPv6.11.0.1//NONSGML v1.0//EN
CALSCALE:GREGORIAN
METHOD:PUBLISH
X-WR-CALNAME:Fellowship Community Church
X-ORIGINAL-URL:https://fcchurch.org
X-WR-CALDESC:Events for Fellowship Community Church
REFRESH-INTERVAL;VALUE=DURATION:PT1H
X-Robots-Tag:noindex
X-PUBLISHED-TTL:PT1H
BEGIN:VTIMEZONE
TZID:America/Denver
BEGIN:DAYLIGHT
TZOFFSETFROM:-0700
TZOFFSETTO:-0600
TZNAME:MDT
DTSTART:20260308T090000
END:DAYLIGHT
BEGIN:STANDARD
TZOFFSETFROM:-0600
TZOFFSETTO:-0700
TZNAME:MST
DTSTART:20261101T080000
END:STANDARD
END:VTIMEZONE
BEGIN:VEVENT
DTSTART;VALUE=DATE:20260105
DTEND;VALUE=DATE:20260126
DTSTAMP:20260422T151128
CREATED:20251210T224509Z
LAST-MODIFIED:20251210T224509Z
UID:10004151-1767571200-1769385599@fcchurch.org
SUMMARY:21 Days of Prayer and Fasting
DESCRIPTION:2026 is almost here and we want to enter in with 21 days of prayer and fasting to seek Jesus together! \nYou can choose to fast specific foods\, skip one meal a day\, social media or TV\, etc. We will open a daily\, virtual gathering for 30 minutes to share how God is moving and pray together. Partner with us by signing up online\, in the Church Center App\, or at the Connection Center! \nFor more\, contact Joseph (jdhanapal@msn.com).
URL:https://fcchurch.org/event/21-days-of-prayer-and-fasting-3/
LOCATION:CO
CATEGORIES:adult,all-church,bulletin,event,men,women,youth
ATTACH;FMTTYPE=image/jpeg:https://fcchurch.org/wp-content/uploads/2025/12/2026-21-Days-of-Prayer-BANNER.jpg
END:VEVENT
BEGIN:VEVENT
DTSTART;TZID=America/Denver:20260121T093000
DTEND;TZID=America/Denver:20260121T113000
DTSTAMP:20260422T151128
CREATED:20260115T224307Z
LAST-MODIFIED:20260115T224308Z
UID:10004209-1768987800-1768995000@fcchurch.org
SUMMARY:Women2Women Bible Study (WED. AM)
DESCRIPTION:Join us Wednesdays @9:30a in Rm. 18 beginning January 7th\, to finish our Elijah study for Women2Women! \nELIJAH: Faith and Fire \nJoin Priscilla Shirer on this 7-session journey through the life and times of the prophet Elijah to discover how the fire on Mount Carmel was forged in the valley of famine. And how the emboldened\, fiery faith you desire is being fashioned by God in your life right now. \nSign up online\, via the Church Center App\, or at the Connection Center. Cost is $20 for the book. (Scholarships are available!) \nFor more\, contact:\nTuesdays: Maggie (609-529-8961/maggiefuller53@gmail.com)\nWednesdays: Karen (303-570-0380/kchormann@comcast.net). \nChildcare is available on request at www.fcchurch.org/childcare
URL:https://fcchurch.org/event/women2women-bible-study-wed-am-5-2/2026-01-21/
LOCATION:Fellowship Community Church\, 6263 S. Parker Rd\, Centennial\, CO\, 80016
CATEGORIES:women
ATTACH;FMTTYPE=image/jpeg:https://fcchurch.org/wp-content/uploads/2025/08/2025-Womens-BANNER.jpg
END:VEVENT
BEGIN:VEVENT
DTSTART;TZID=America/Denver:20260121T180000
DTEND;TZID=America/Denver:20260121T200000
DTSTAMP:20260422T151128
CREATED:20251117T172747Z
LAST-MODIFIED:20251117T172747Z
UID:10003898-1769018400-1769025600@fcchurch.org
SUMMARY:FORGE:PM
DESCRIPTION:All students form 6th – 12th grade are invited to join us on Wednesday nights from 6:88-8:00pm for a free student meal\, Bible Study\, worship\, games\, and a chance to discuss scripture with their peers.
URL:https://fcchurch.org/event/forgepm-3/2026-01-21/
LOCATION:CO
CATEGORIES:youth
ATTACH;FMTTYPE=image/png:https://fcchurch.org/wp-content/uploads/2025/11/IMG_7636.png
ORGANIZER;CN="Jeff Howard":MAILTO:jhoward@fcchurch.org
END:VEVENT
END:VCALENDAR