BEGIN:VCALENDAR
VERSION:2.0
PRODID:-//Fellowship Community Church - ECPv6.11.0.1//NONSGML v1.0//EN
CALSCALE:GREGORIAN
METHOD:PUBLISH
X-WR-CALNAME:Fellowship Community Church
X-ORIGINAL-URL:https://fcchurch.org
X-WR-CALDESC:Events for Fellowship Community Church
REFRESH-INTERVAL;VALUE=DURATION:PT1H
X-Robots-Tag:noindex
X-PUBLISHED-TTL:PT1H
BEGIN:VTIMEZONE
TZID:America/Denver
BEGIN:DAYLIGHT
TZOFFSETFROM:-0700
TZOFFSETTO:-0600
TZNAME:MDT
DTSTART:20260308T090000
END:DAYLIGHT
BEGIN:STANDARD
TZOFFSETFROM:-0600
TZOFFSETTO:-0700
TZNAME:MST
DTSTART:20261101T080000
END:STANDARD
END:VTIMEZONE
BEGIN:VEVENT
DTSTART;VALUE=DATE:20260201
DTEND;VALUE=DATE:20260304
DTSTAMP:20260422T074805
CREATED:20260115T192110Z
LAST-MODIFIED:20260219T184412Z
UID:10004234-1769904000-1772582399@fcchurch.org
SUMMARY:(Church) Family Dinners
DESCRIPTION:Partnership is our emphasis this year\, and for this next quarter\, our challenge is to take a next step in partnering with the church by leaning into community\, joining a team\, or coming alongside to mentor (or be mentored by) another believer at FCC. \nAn easy next step is to lean into community socially! To help with that\, sign up to be a part of a (Church) Family Dinner in your neck of the woods in the next couple of months. \nAfter a few weeks of letting people sign up\, you will be contacted by a host family who will work to arrange a day and time with everyone to share a meal with them and one or two other families. Throw a potluck\, have a picnic\, or even go out to eat. Let’s just practice sharing LIFE together! \nWhat: Dinner with 2-3 other families \n\nYou can elect to host or simply be a participant\nHosts will be given the contact information for 2-3 other families\nHosts will contact you and arrange a day/time\, and let you know what to bring (if anything)\n\nWhen & Where: To be determined together with your group \nWhy: To grow closer with Christ as we grow together in community with other believers. Encourage one another with this time!
URL:https://fcchurch.org/event/church-family-dinners-2/
LOCATION:CO
CATEGORIES:all-church
ATTACH;FMTTYPE=image/jpeg:https://fcchurch.org/wp-content/uploads/2026/01/2026-church-Family-Dinner-BANNER.jpeg
END:VEVENT
BEGIN:VEVENT
DTSTART;TZID=America/Denver:20260204T093000
DTEND;TZID=America/Denver:20260204T113000
DTSTAMP:20260422T074805
CREATED:20260115T224307Z
LAST-MODIFIED:20260115T224308Z
UID:10004211-1770197400-1770204600@fcchurch.org
SUMMARY:Women2Women Bible Study (WED. AM)
DESCRIPTION:Join us Wednesdays @9:30a in Rm. 18 beginning January 7th\, to finish our Elijah study for Women2Women! \nELIJAH: Faith and Fire \nJoin Priscilla Shirer on this 7-session journey through the life and times of the prophet Elijah to discover how the fire on Mount Carmel was forged in the valley of famine. And how the emboldened\, fiery faith you desire is being fashioned by God in your life right now. \nSign up online\, via the Church Center App\, or at the Connection Center. Cost is $20 for the book. (Scholarships are available!) \nFor more\, contact:\nTuesdays: Maggie (609-529-8961/maggiefuller53@gmail.com)\nWednesdays: Karen (303-570-0380/kchormann@comcast.net). \nChildcare is available on request at www.fcchurch.org/childcare
URL:https://fcchurch.org/event/women2women-bible-study-wed-am-5-2/2026-02-04/
LOCATION:Fellowship Community Church\, 6263 S. Parker Rd\, Centennial\, CO\, 80016
CATEGORIES:women
ATTACH;FMTTYPE=image/jpeg:https://fcchurch.org/wp-content/uploads/2025/08/2025-Womens-BANNER.jpg
END:VEVENT
BEGIN:VEVENT
DTSTART;TZID=America/Denver:20260204T180000
DTEND;TZID=America/Denver:20260204T200000
DTSTAMP:20260422T074805
CREATED:20251117T172747Z
LAST-MODIFIED:20251117T172747Z
UID:10003900-1770228000-1770235200@fcchurch.org
SUMMARY:FORGE:PM
DESCRIPTION:All students form 6th – 12th grade are invited to join us on Wednesday nights from 6:88-8:00pm for a free student meal\, Bible Study\, worship\, games\, and a chance to discuss scripture with their peers.
URL:https://fcchurch.org/event/forgepm-3/2026-02-04/
LOCATION:CO
CATEGORIES:youth
ATTACH;FMTTYPE=image/png:https://fcchurch.org/wp-content/uploads/2025/11/IMG_7636.png
ORGANIZER;CN="Jeff Howard":MAILTO:jhoward@fcchurch.org
END:VEVENT
END:VCALENDAR