BEGIN:VCALENDAR
VERSION:2.0
PRODID:-//Fellowship Community Church - ECPv6.11.0.1//NONSGML v1.0//EN
CALSCALE:GREGORIAN
METHOD:PUBLISH
X-WR-CALNAME:Fellowship Community Church
X-ORIGINAL-URL:https://fcchurch.org
X-WR-CALDESC:Events for Fellowship Community Church
REFRESH-INTERVAL;VALUE=DURATION:PT1H
X-Robots-Tag:noindex
X-PUBLISHED-TTL:PT1H
BEGIN:VTIMEZONE
TZID:America/Denver
BEGIN:DAYLIGHT
TZOFFSETFROM:-0700
TZOFFSETTO:-0600
TZNAME:MDT
DTSTART:20260308T090000
END:DAYLIGHT
BEGIN:STANDARD
TZOFFSETFROM:-0600
TZOFFSETTO:-0700
TZNAME:MST
DTSTART:20261101T080000
END:STANDARD
END:VTIMEZONE
BEGIN:VEVENT
DTSTART;TZID=America/Denver:20260422T180000
DTEND;TZID=America/Denver:20260422T200000
DTSTAMP:20260422T021034
CREATED:20251117T172747Z
LAST-MODIFIED:20251117T172747Z
UID:10003911-1776880800-1776888000@fcchurch.org
SUMMARY:FORGE:PM
DESCRIPTION:All students form 6th – 12th grade are invited to join us on Wednesday nights from 6:88-8:00pm for a free student meal\, Bible Study\, worship\, games\, and a chance to discuss scripture with their peers.
URL:https://fcchurch.org/event/forgepm-3/2026-04-22/
LOCATION:CO
CATEGORIES:youth
ATTACH;FMTTYPE=image/png:https://fcchurch.org/wp-content/uploads/2025/11/IMG_7636.png
ORGANIZER;CN="Jeff Howard":MAILTO:jhoward@fcchurch.org
END:VEVENT
BEGIN:VEVENT
DTSTART;TZID=America/Denver:20260422T183000
DTEND;TZID=America/Denver:20260422T200000
DTSTAMP:20260422T021034
CREATED:20260312T220556Z
LAST-MODIFIED:20260312T221030Z
UID:10004307-1776882600-1776888000@fcchurch.org
SUMMARY:Partner in Gospel Work
DESCRIPTION:We take a next step this spring in our partnership by partnering together in gospel work. Pastor David is leading this 9-week Group Study to grow your fluency and confidence in communicating the gospel message through discussion and practice together with others. \nSign up online\, on church Center\, or at the Connection Center. \nContact David (dcarter@fcchurch.org / 303.928.7102) with questions.
URL:https://fcchurch.org/event/partner-in-gospel-work/2026-04-22/
LOCATION:Fellowship Community Church\, 6263 S. Parker Rd\, Centennial\, CO\, 80016
CATEGORIES:adult,all-church,bulletin,event,men,women
ATTACH;FMTTYPE=image/jpeg:https://fcchurch.org/wp-content/uploads/2026/03/2026-04-Partner-in-Gospel-Work-BANNER.jpeg
END:VEVENT
END:VCALENDAR