BEGIN:VCALENDAR
VERSION:2.0
PRODID:-//Fellowship Community Church - ECPv6.11.0.1//NONSGML v1.0//EN
CALSCALE:GREGORIAN
METHOD:PUBLISH
X-WR-CALNAME:Fellowship Community Church
X-ORIGINAL-URL:https://fcchurch.org
X-WR-CALDESC:Events for Fellowship Community Church
REFRESH-INTERVAL;VALUE=DURATION:PT1H
X-Robots-Tag:noindex
X-PUBLISHED-TTL:PT1H
BEGIN:VTIMEZONE
TZID:America/Denver
BEGIN:DAYLIGHT
TZOFFSETFROM:-0700
TZOFFSETTO:-0600
TZNAME:MDT
DTSTART:20230312T090000
END:DAYLIGHT
BEGIN:STANDARD
TZOFFSETFROM:-0600
TZOFFSETTO:-0700
TZNAME:MST
DTSTART:20231105T080000
END:STANDARD
END:VTIMEZONE
BEGIN:VEVENT
DTSTART;TZID=America/Denver:20230610T083000
DTEND;TZID=America/Denver:20230610T100000
DTSTAMP:20260421T053730
CREATED:20230105T211457Z
LAST-MODIFIED:20230105T211457Z
UID:10001307-1686385800-1686391200@fcchurch.org
SUMMARY:Men's Breakfast
DESCRIPTION:Men of Fellowship! Join us on the 2nd Saturday of each month for a breakfast with men of all generations. It’s an opportunity to get to know some of the other guys who call FCC their family. Good food and good company… who could ask for more? \nBe sure to invite your sons\, neighbors\, grandparents and more. We’re better together! \nA $5 donation per person is appreciated to help cover costs.
URL:https://fcchurch.org/event/mens-breakfast-5/2023-06-10/
LOCATION:Fellowship Community Church\, 6263 S. Parker Rd\, Centennial\, CO\, 80016
CATEGORIES:men
ATTACH;FMTTYPE=image/jpeg:https://fcchurch.org/wp-content/uploads/2021/10/breakfast-scaled.jpeg
ORGANIZER;CN="Paul Page":MAILTO:paul.page@comcast.net
END:VEVENT
BEGIN:VEVENT
DTSTART;TZID=America/Denver:20230609T083000
DTEND;TZID=America/Denver:20230609T170000
DTSTAMP:20260421T053730
CREATED:20230606T162042Z
LAST-MODIFIED:20230606T162042Z
UID:10002353-1686299400-1686330000@fcchurch.org
SUMMARY:Youth Hike Day
DESCRIPTION:Join us June 9th as we head to the mountains for a day of hiking! Bring a sacked lunch and some money for snow cones on the way back! \nWe will meet at the church at 8:30am to head to the hike. We will be hiking Eagle’s View Trail Loop just south of Confier. We are also monitering the weather this week and Friday morning. If the trail appears to be too muddy to hike well we will postpone until June 16th.
URL:https://fcchurch.org/event/youth-hike-day/
LOCATION:CO
CATEGORIES:youth
ATTACH;FMTTYPE=image/png:https://fcchurch.org/wp-content/uploads/2023/06/IMG_3458.png
END:VEVENT
BEGIN:VEVENT
DTSTART;TZID=America/Denver:20230607T183000
DTEND;TZID=America/Denver:20230607T193000
DTSTAMP:20260421T053730
CREATED:20230118T174423Z
LAST-MODIFIED:20231114T202119Z
UID:10002321-1686162600-1686166200@fcchurch.org
SUMMARY:Praise & Prayer Gathering
DESCRIPTION:We gather this Wednesday evening to pray and to praise our Heavenly Father. Led by Pastor Rick\, join us in this most important work!
URL:https://fcchurch.org/event/praise-prayer-gathering-2-2/2023-06-07/
LOCATION:Fellowship Community Church\, 6263 S. Parker Rd\, Centennial\, CO\, 80016
CATEGORIES:all-church,program
ATTACH;FMTTYPE=image/jpeg:https://fcchurch.org/wp-content/uploads/2022/08/praise-and-prayer-scaled.jpeg
END:VEVENT
BEGIN:VEVENT
DTSTART;TZID=America/Denver:20230607T180000
DTEND;TZID=America/Denver:20230607T200000
DTSTAMP:20260421T053730
CREATED:20230418T200124Z
LAST-MODIFIED:20230627T195946Z
UID:10001595-1686160800-1686168000@fcchurch.org
SUMMARY:FORGE:PM Summer Edition
DESCRIPTION:Our youth move to homes for the summer. Each week\, we’ll be in a different location rom 6:00-8:00pm. \nJune 7th: The Sinars’ 6154 S. Jericho Way Centennial.\nJune 14th: The Voldens’\nJune 23rd: NO FORGE:SUMMER DUE TO VBS.\nJune 30th: NO FORGE SUMMER DUE TO ARIZONA MISSION TRIP\nJuly 5th: The Carters’ 6814 Hillside Way\, Parker\nJuly 12th: The Daiseys’ 20791 E. 52nd Ave.\, Denver\nJuly 19th: The Kims’ 16356 E. Lake Dr. Centennial\nJuly 26th: The Howards’ 12627 S. Dove Creek Way\, Parker
URL:https://fcchurch.org/event/forgepm-summer-edition/2023-06-07/
LOCATION:CO
CATEGORIES:youth
ATTACH;FMTTYPE=image/png:https://fcchurch.org/wp-content/uploads/2023/04/IMG_1243.png
END:VEVENT
BEGIN:VEVENT
DTSTART;TZID=America/Denver:20230606T173000
DTEND;TZID=America/Denver:20230606T193000
DTSTAMP:20260421T053730
CREATED:20230418T195734Z
LAST-MODIFIED:20230510T181010Z
UID:10001592-1686072600-1686079800@fcchurch.org
SUMMARY:Girls' Night Out
DESCRIPTION:Ladies! Summer is here and we’re going to celebrate with a night out at Jason’s Deli (Parker & Chambers)! Bring a friend or come make some new ones. Sign up online or at the Connection Center to save your seat. For more\, contact Susan Current at svc@gowebway.com.
URL:https://fcchurch.org/event/girls-night-out-4/
LOCATION:Jason’s Deli\, 5440 S Parker Rd\, Aurora\, CO\, 80015\, United States
CATEGORIES:bulletin,event,women
ATTACH;FMTTYPE=image/jpeg:https://fcchurch.org/wp-content/uploads/2023/04/2023-06-06-GNO-SLIDE-1.jpg
GEO:39.6163741;-104.8169425
X-APPLE-STRUCTURED-LOCATION;VALUE=URI;X-ADDRESS=Jason’s Deli 5440 S Parker Rd Aurora CO 80015 United States;X-APPLE-RADIUS=500;X-TITLE=5440 S Parker Rd:geo:-104.8169425,39.6163741
END:VEVENT
BEGIN:VEVENT
DTSTART;TZID=America/Denver:20230604T120000
DTEND;TZID=America/Denver:20230604T133000
DTSTAMP:20260421T053730
CREATED:20230418T195911Z
LAST-MODIFIED:20230502T190756Z
UID:10001594-1685880000-1685885400@fcchurch.org
SUMMARY:Newcomers' Lunch
DESCRIPTION:If you’re new to Fellowship\, you’re invited to join us for lunch with our staff\, elders\, and other new faces. RSVPs are appreciated but not required and can be done online or via the Church Center App. Childcare is available on request (www.fcchurch.org/childcare). For more\, contact David Carter at dcarter@fcchurch.org.
URL:https://fcchurch.org/event/newcomers-lunch-3/
LOCATION:Fellowship Community Church\, 6263 S. Parker Rd\, Centennial\, CO\, 80016
CATEGORIES:all-church,bulletin
ATTACH;FMTTYPE=image/jpeg:https://fcchurch.org/wp-content/uploads/2023/04/Newcomer-Lunch-Slide-Updated.jpg
END:VEVENT
BEGIN:VEVENT
DTSTART;TZID=America/Denver:20230604T090000
DTEND;TZID=America/Denver:20230604T120000
DTSTAMP:20260421T053730
CREATED:20230105T214928Z
LAST-MODIFIED:20230516T223609Z
UID:10001338-1685869200-1685880000@fcchurch.org
SUMMARY:Sunday Morning Worship
DESCRIPTION:We can’t wait to spend our Sunday with you! Here’s what you can look forward to this Sunday morning: \n\nFirst Service 9:00 – 10:15am\n\n\nWorship in the Sanctuary\nNursery & Children’s Programs in the Children’s Wing\nYouth in the Fireside Room\nAdult Bible Fellowship in Room 2\n\nSecond Service 10:30 – 11:45am\n\n\nWorship in the Sanctuary\nNursery & Children’s Programs in the Children’s Wing
URL:https://fcchurch.org/event/sunday-morning-worship-3/2023-06-04/
LOCATION:Fellowship Community Church\, 6263 S. Parker Rd\, Centennial\, CO\, 80016
CATEGORIES:adult,all-church
ATTACH;FMTTYPE=image/jpeg:https://fcchurch.org/wp-content/uploads/2022/12/FCC-PICNIC-220828020.jpg
END:VEVENT
BEGIN:VEVENT
DTSTART;TZID=America/Denver:20230603T090000
DTEND;TZID=America/Denver:20230603T120000
DTSTAMP:20260421T053730
CREATED:20230418T195825Z
LAST-MODIFIED:20230502T182720Z
UID:10001593-1685782800-1685793600@fcchurch.org
SUMMARY:Explorers' Class (1 Day)
DESCRIPTION:Are you interested in joining Fellowship as a member? Come to our Explorer’s Class and take the first step in that process. Learn more about Fellowship’s history and distinctives while getting to know others over brunch. Sign up online\, or for more\,\ncontact David Carter at dcarter@fcchurch.org. \nChildcare is available on request. To do so\, visit www.fcchurch.org/childcare.
URL:https://fcchurch.org/event/explorers-class-1-day/
LOCATION:Fellowship Community Church\, 6263 S. Parker Rd\, Centennial\, CO\, 80016
CATEGORIES:all-church,bulletin
ATTACH;FMTTYPE=image/jpeg:https://fcchurch.org/wp-content/uploads/2023/04/Explorer-One-Day.jpg
END:VEVENT
BEGIN:VEVENT
DTSTART;TZID=America/Denver:20230531T183000
DTEND;TZID=America/Denver:20230531T193000
DTSTAMP:20260421T053730
CREATED:20230118T174423Z
LAST-MODIFIED:20231114T202119Z
UID:10002320-1685557800-1685561400@fcchurch.org
SUMMARY:Praise & Prayer Gathering
DESCRIPTION:We gather this Wednesday evening to pray and to praise our Heavenly Father. Led by Pastor Rick\, join us in this most important work!
URL:https://fcchurch.org/event/praise-prayer-gathering-2-2/2023-05-31/
LOCATION:Fellowship Community Church\, 6263 S. Parker Rd\, Centennial\, CO\, 80016
CATEGORIES:all-church,program
ATTACH;FMTTYPE=image/jpeg:https://fcchurch.org/wp-content/uploads/2022/08/praise-and-prayer-scaled.jpeg
END:VEVENT
BEGIN:VEVENT
DTSTART;TZID=America/Denver:20230531T180000
DTEND;TZID=America/Denver:20230531T200000
DTSTAMP:20260421T053730
CREATED:20220713T185442Z
LAST-MODIFIED:20220713T185442Z
UID:10001085-1685556000-1685563200@fcchurch.org
SUMMARY:FORGE:PM
DESCRIPTION:Join us on Wednesday nights from 6:00-8:00pm for games\, bible study\, and more. FORGE:PM is a mid-week bible study for 6th-12th graders. It is a great time to invite friends who aren’t comfortable with church as we look to the gospel each week\, or for those who want to grow in their knowledge of scripture and in their love for Jesus. \nWe will have a free meal on the first Wednesday of the month. \nDuring Fall 2022 we will be walking through the book of 1 Peter. \nWe look forward to seeing you there!
URL:https://fcchurch.org/event/forgepm/2023-05-31/
LOCATION:Fellowship Community Church\, 6263 S. Parker Rd\, Centennial\, CO\, 80016
CATEGORIES:all-church,youth
ATTACH;FMTTYPE=image/jpeg:https://fcchurch.org/wp-content/uploads/2022/02/FORGE.jpeg
ORGANIZER;CN="Jeff Howard":MAILTO:jhoward@fcchurch.org
END:VEVENT
BEGIN:VEVENT
DTSTART;TZID=America/Denver:20230528T090000
DTEND;TZID=America/Denver:20230528T120000
DTSTAMP:20260421T053730
CREATED:20230105T214928Z
LAST-MODIFIED:20230516T223609Z
UID:10001337-1685264400-1685275200@fcchurch.org
SUMMARY:Sunday Morning Worship
DESCRIPTION:We can’t wait to spend our Sunday with you! Here’s what you can look forward to this Sunday morning: \n\nFirst Service 9:00 – 10:15am\n\n\nWorship in the Sanctuary\nNursery & Children’s Programs in the Children’s Wing\nYouth in the Fireside Room\nAdult Bible Fellowship in Room 2\n\nSecond Service 10:30 – 11:45am\n\n\nWorship in the Sanctuary\nNursery & Children’s Programs in the Children’s Wing
URL:https://fcchurch.org/event/sunday-morning-worship-3/2023-05-28/
LOCATION:Fellowship Community Church\, 6263 S. Parker Rd\, Centennial\, CO\, 80016
CATEGORIES:adult,all-church
ATTACH;FMTTYPE=image/jpeg:https://fcchurch.org/wp-content/uploads/2022/12/FCC-PICNIC-220828020.jpg
END:VEVENT
BEGIN:VEVENT
DTSTART;TZID=America/Denver:20230524T183000
DTEND;TZID=America/Denver:20230524T193000
DTSTAMP:20260421T053730
CREATED:20230118T174423Z
LAST-MODIFIED:20231114T202119Z
UID:10002319-1684953000-1684956600@fcchurch.org
SUMMARY:Praise & Prayer Gathering
DESCRIPTION:We gather this Wednesday evening to pray and to praise our Heavenly Father. Led by Pastor Rick\, join us in this most important work!
URL:https://fcchurch.org/event/praise-prayer-gathering-2-2/2023-05-24/
LOCATION:Fellowship Community Church\, 6263 S. Parker Rd\, Centennial\, CO\, 80016
CATEGORIES:all-church,program
ATTACH;FMTTYPE=image/jpeg:https://fcchurch.org/wp-content/uploads/2022/08/praise-and-prayer-scaled.jpeg
END:VEVENT
BEGIN:VEVENT
DTSTART;TZID=America/Denver:20230524T180000
DTEND;TZID=America/Denver:20230524T200000
DTSTAMP:20260421T053730
CREATED:20220713T185442Z
LAST-MODIFIED:20220713T185442Z
UID:10001084-1684951200-1684958400@fcchurch.org
SUMMARY:FORGE:PM
DESCRIPTION:Join us on Wednesday nights from 6:00-8:00pm for games\, bible study\, and more. FORGE:PM is a mid-week bible study for 6th-12th graders. It is a great time to invite friends who aren’t comfortable with church as we look to the gospel each week\, or for those who want to grow in their knowledge of scripture and in their love for Jesus. \nWe will have a free meal on the first Wednesday of the month. \nDuring Fall 2022 we will be walking through the book of 1 Peter. \nWe look forward to seeing you there!
URL:https://fcchurch.org/event/forgepm/2023-05-24/
LOCATION:Fellowship Community Church\, 6263 S. Parker Rd\, Centennial\, CO\, 80016
CATEGORIES:all-church,youth
ATTACH;FMTTYPE=image/jpeg:https://fcchurch.org/wp-content/uploads/2022/02/FORGE.jpeg
ORGANIZER;CN="Jeff Howard":MAILTO:jhoward@fcchurch.org
END:VEVENT
BEGIN:VEVENT
DTSTART;TZID=America/Denver:20230521T183000
DTEND;TZID=America/Denver:20230521T203000
DTSTAMP:20260421T053730
CREATED:20230418T195541Z
LAST-MODIFIED:20230502T164846Z
UID:10001591-1684693800-1684701000@fcchurch.org
SUMMARY:Senior Banquet
DESCRIPTION:Join us Sunday evening\, May 21st\, at 6:30pm. as we celebrate the accomplishments of our graduates! \nThis events is for graduating seniors\, their families\, youth leaders\, and elders. \nPlease feel free to contact Jeff Howard with any questions.
URL:https://fcchurch.org/event/senior-banquet-2/
LOCATION:Fellowship Community Church\, 6263 S. Parker Rd\, Centennial\, CO\, 80016
CATEGORIES:youth
ATTACH;FMTTYPE=image/png:https://fcchurch.org/wp-content/uploads/2023/04/SB.png
ORGANIZER;CN="Jeff Howard":MAILTO:jhoward@fcchurch.org
END:VEVENT
BEGIN:VEVENT
DTSTART;TZID=America/Denver:20230521T090000
DTEND;TZID=America/Denver:20230521T120000
DTSTAMP:20260421T053730
CREATED:20230105T214928Z
LAST-MODIFIED:20230516T223609Z
UID:10001336-1684659600-1684670400@fcchurch.org
SUMMARY:Sunday Morning Worship
DESCRIPTION:We can’t wait to spend our Sunday with you! Here’s what you can look forward to this Sunday morning: \n\nFirst Service 9:00 – 10:15am\n\n\nWorship in the Sanctuary\nNursery & Children’s Programs in the Children’s Wing\nYouth in the Fireside Room\nAdult Bible Fellowship in Room 2\n\nSecond Service 10:30 – 11:45am\n\n\nWorship in the Sanctuary\nNursery & Children’s Programs in the Children’s Wing
URL:https://fcchurch.org/event/sunday-morning-worship-3/2023-05-21/
LOCATION:Fellowship Community Church\, 6263 S. Parker Rd\, Centennial\, CO\, 80016
CATEGORIES:adult,all-church
ATTACH;FMTTYPE=image/jpeg:https://fcchurch.org/wp-content/uploads/2022/12/FCC-PICNIC-220828020.jpg
END:VEVENT
BEGIN:VEVENT
DTSTART;TZID=America/Denver:20230517T183000
DTEND;TZID=America/Denver:20230517T193000
DTSTAMP:20260421T053730
CREATED:20230118T174423Z
LAST-MODIFIED:20231114T202119Z
UID:10001536-1684348200-1684351800@fcchurch.org
SUMMARY:Praise & Prayer Gathering
DESCRIPTION:We gather this Wednesday evening to pray and to praise our Heavenly Father. Led by Pastor Rick\, join us in this most important work!
URL:https://fcchurch.org/event/praise-prayer-gathering-2-2/2023-05-17/
LOCATION:Fellowship Community Church\, 6263 S. Parker Rd\, Centennial\, CO\, 80016
CATEGORIES:all-church,program
ATTACH;FMTTYPE=image/jpeg:https://fcchurch.org/wp-content/uploads/2022/08/praise-and-prayer-scaled.jpeg
END:VEVENT
BEGIN:VEVENT
DTSTART;TZID=America/Denver:20230517T180000
DTEND;TZID=America/Denver:20230517T200000
DTSTAMP:20260421T053730
CREATED:20230207T213753Z
LAST-MODIFIED:20230222T204836Z
UID:10001572-1684346400-1684353600@fcchurch.org
SUMMARY:GriefShare
DESCRIPTION:GriefShare is a grief recovery support group where you can find help and healing for the hurt of losing a loved one. Join a friendly\, caring group of people who will walk alongside you through one of life’s most difficult experiences. You can simply show up or sign up beforehand at the Connection Center or online. Cost is $20 for materials. \nFor more\, contact Kathy Juergens at 303.696.1414
URL:https://fcchurch.org/event/griefshare/2023-05-17/
LOCATION:Fellowship Community Church\, 6263 S. Parker Rd\, Centennial\, CO\, 80016
CATEGORIES:adult,all-church
ATTACH;FMTTYPE=image/jpeg:https://fcchurch.org/wp-content/uploads/2023/02/GriefShare-Banner.jpg
END:VEVENT
BEGIN:VEVENT
DTSTART;TZID=America/Denver:20230517T180000
DTEND;TZID=America/Denver:20230517T200000
DTSTAMP:20260421T053730
CREATED:20220713T185442Z
LAST-MODIFIED:20220713T185442Z
UID:10001083-1684346400-1684353600@fcchurch.org
SUMMARY:FORGE:PM
DESCRIPTION:Join us on Wednesday nights from 6:00-8:00pm for games\, bible study\, and more. FORGE:PM is a mid-week bible study for 6th-12th graders. It is a great time to invite friends who aren’t comfortable with church as we look to the gospel each week\, or for those who want to grow in their knowledge of scripture and in their love for Jesus. \nWe will have a free meal on the first Wednesday of the month. \nDuring Fall 2022 we will be walking through the book of 1 Peter. \nWe look forward to seeing you there!
URL:https://fcchurch.org/event/forgepm/2023-05-17/
LOCATION:Fellowship Community Church\, 6263 S. Parker Rd\, Centennial\, CO\, 80016
CATEGORIES:all-church,youth
ATTACH;FMTTYPE=image/jpeg:https://fcchurch.org/wp-content/uploads/2022/02/FORGE.jpeg
ORGANIZER;CN="Jeff Howard":MAILTO:jhoward@fcchurch.org
END:VEVENT
BEGIN:VEVENT
DTSTART;TZID=America/Denver:20230514T090000
DTEND;TZID=America/Denver:20230514T120000
DTSTAMP:20260421T053730
CREATED:20230105T214928Z
LAST-MODIFIED:20230516T223609Z
UID:10001335-1684054800-1684065600@fcchurch.org
SUMMARY:Sunday Morning Worship
DESCRIPTION:We can’t wait to spend our Sunday with you! Here’s what you can look forward to this Sunday morning: \n\nFirst Service 9:00 – 10:15am\n\n\nWorship in the Sanctuary\nNursery & Children’s Programs in the Children’s Wing\nYouth in the Fireside Room\nAdult Bible Fellowship in Room 2\n\nSecond Service 10:30 – 11:45am\n\n\nWorship in the Sanctuary\nNursery & Children’s Programs in the Children’s Wing
URL:https://fcchurch.org/event/sunday-morning-worship-3/2023-05-14/
LOCATION:Fellowship Community Church\, 6263 S. Parker Rd\, Centennial\, CO\, 80016
CATEGORIES:adult,all-church
ATTACH;FMTTYPE=image/jpeg:https://fcchurch.org/wp-content/uploads/2022/12/FCC-PICNIC-220828020.jpg
END:VEVENT
BEGIN:VEVENT
DTSTART;TZID=America/Denver:20230513T113000
DTEND;TZID=America/Denver:20230513T140000
DTSTAMP:20260421T053730
CREATED:20230430T132545Z
LAST-MODIFIED:20231116T170620Z
UID:10001583-1683977400-1683986400@fcchurch.org
SUMMARY:Women of Worth
DESCRIPTION:Ladies\, are you on your own in this season? Do you ever wish there was a fellowship group where you could share with other women on their own? Women of Worth (WoW) is sponsoring a luncheon for just that purpose. Come and join us on the 2nd Saturday of each month from 11:30a-2:00p for a potluck lunch and great fellowship! \nSign up at the connection center or contact Kendell Benson (703-853-9759). \nWe look forward to seeing you then.
URL:https://fcchurch.org/event/women-of-worth-2-4/2023-05-13/
LOCATION:CO
CATEGORIES:women
ATTACH;FMTTYPE=image/jpeg:https://fcchurch.org/wp-content/uploads/2023/01/Women-of-Worth.jpg
END:VEVENT
BEGIN:VEVENT
DTSTART;TZID=America/Denver:20230513T083000
DTEND;TZID=America/Denver:20230513T100000
DTSTAMP:20260421T053730
CREATED:20230430T132511Z
LAST-MODIFIED:20230430T132512Z
UID:10001306-1683966600-1683972000@fcchurch.org
SUMMARY:Men's Breakfast
DESCRIPTION:Men of Fellowship! Join us on the 2nd Saturday of each month for a breakfast with men of all generations. It’s an opportunity to get to know some of the other guys who call FCC their family. Good food and good company… who could ask for more? \nBe sure to invite your sons\, neighbors\, grandparents and more. We’re better together! \nA $5 donation per person is appreciated to help cover costs.
URL:https://fcchurch.org/event/mens-breakfast-5-5/
LOCATION:Fellowship Community Church\, 6263 S. Parker Rd\, Centennial\, CO\, 80016
CATEGORIES:bulletin,men
ATTACH;FMTTYPE=image/jpeg:https://fcchurch.org/wp-content/uploads/2021/10/breakfast-scaled.jpeg
ORGANIZER;CN="Paul Page":MAILTO:paul.page@comcast.net
END:VEVENT
BEGIN:VEVENT
DTSTART;TZID=America/Denver:20230510T183000
DTEND;TZID=America/Denver:20230510T193000
DTSTAMP:20260421T053730
CREATED:20230118T174423Z
LAST-MODIFIED:20231114T202119Z
UID:10001535-1683743400-1683747000@fcchurch.org
SUMMARY:Praise & Prayer Gathering
DESCRIPTION:We gather this Wednesday evening to pray and to praise our Heavenly Father. Led by Pastor Rick\, join us in this most important work!
URL:https://fcchurch.org/event/praise-prayer-gathering-2-2/2023-05-10/
LOCATION:Fellowship Community Church\, 6263 S. Parker Rd\, Centennial\, CO\, 80016
CATEGORIES:all-church,program
ATTACH;FMTTYPE=image/jpeg:https://fcchurch.org/wp-content/uploads/2022/08/praise-and-prayer-scaled.jpeg
END:VEVENT
BEGIN:VEVENT
DTSTART;TZID=America/Denver:20230510T180000
DTEND;TZID=America/Denver:20230510T200000
DTSTAMP:20260421T053730
CREATED:20230207T213753Z
LAST-MODIFIED:20230222T204836Z
UID:10001571-1683741600-1683748800@fcchurch.org
SUMMARY:GriefShare
DESCRIPTION:GriefShare is a grief recovery support group where you can find help and healing for the hurt of losing a loved one. Join a friendly\, caring group of people who will walk alongside you through one of life’s most difficult experiences. You can simply show up or sign up beforehand at the Connection Center or online. Cost is $20 for materials. \nFor more\, contact Kathy Juergens at 303.696.1414
URL:https://fcchurch.org/event/griefshare/2023-05-10/
LOCATION:Fellowship Community Church\, 6263 S. Parker Rd\, Centennial\, CO\, 80016
CATEGORIES:adult,all-church
ATTACH;FMTTYPE=image/jpeg:https://fcchurch.org/wp-content/uploads/2023/02/GriefShare-Banner.jpg
END:VEVENT
BEGIN:VEVENT
DTSTART;TZID=America/Denver:20230510T180000
DTEND;TZID=America/Denver:20230510T200000
DTSTAMP:20260421T053730
CREATED:20220713T185442Z
LAST-MODIFIED:20220713T185442Z
UID:10001082-1683741600-1683748800@fcchurch.org
SUMMARY:FORGE:PM
DESCRIPTION:Join us on Wednesday nights from 6:00-8:00pm for games\, bible study\, and more. FORGE:PM is a mid-week bible study for 6th-12th graders. It is a great time to invite friends who aren’t comfortable with church as we look to the gospel each week\, or for those who want to grow in their knowledge of scripture and in their love for Jesus. \nWe will have a free meal on the first Wednesday of the month. \nDuring Fall 2022 we will be walking through the book of 1 Peter. \nWe look forward to seeing you there!
URL:https://fcchurch.org/event/forgepm/2023-05-10/
LOCATION:Fellowship Community Church\, 6263 S. Parker Rd\, Centennial\, CO\, 80016
CATEGORIES:all-church,youth
ATTACH;FMTTYPE=image/jpeg:https://fcchurch.org/wp-content/uploads/2022/02/FORGE.jpeg
ORGANIZER;CN="Jeff Howard":MAILTO:jhoward@fcchurch.org
END:VEVENT
BEGIN:VEVENT
DTSTART;TZID=America/Denver:20230510T093000
DTEND;TZID=America/Denver:20230510T113000
DTSTAMP:20260421T053730
CREATED:20230105T215308Z
LAST-MODIFIED:20230328T181143Z
UID:10001419-1683711000-1683718200@fcchurch.org
SUMMARY:Women2Women Bible Study (AM)
DESCRIPTION:Ladies! We’re heading back into “The Amazing Life of Jesus” and you’re invited to join us. It’s always a good time together\, going deeper into His word & walking with Him more closely. \nCost is $30 for the workbook. Sign up in the lobby\, on the website\, or via the Church Center app. For more\, contact Susan at svc@gowebway.com. \nChildcare is available on request – www.fcchurch.org/childcare.
URL:https://fcchurch.org/event/women2women-bible-study-am-2/2023-05-10/
LOCATION:Fellowship Community Church\, 6263 S. Parker Rd\, Centennial\, CO\, 80016
CATEGORIES:women
ATTACH;FMTTYPE=image/jpeg:https://fcchurch.org/wp-content/uploads/2022/08/w2w-banner.jpg
END:VEVENT
BEGIN:VEVENT
DTSTART;TZID=America/Denver:20230509T183000
DTEND;TZID=America/Denver:20230509T203000
DTSTAMP:20260421T053730
CREATED:20230105T220008Z
LAST-MODIFIED:20230105T220025Z
UID:10001499-1683657000-1683664200@fcchurch.org
SUMMARY:Men's Bible Study
DESCRIPTION:Gentlemen! You are invited to join Paul Page and our Men’s Ministry in a read through the book of Romans. For more\, contact Paul at paul.page@comcast.net. \nChildcare is available upon request – www.fcchurch.org/childcare
URL:https://fcchurch.org/event/mens-bible-study-2/2023-05-09/
LOCATION:Fellowship Community Church\, 6263 S. Parker Rd\, Centennial\, CO\, 80016
CATEGORIES:men,program
ATTACH;FMTTYPE=image/jpeg:https://fcchurch.org/wp-content/uploads/2022/08/priscilla-du-preez-x_jAYPjskYI-unsplash-scaled.jpeg
ORGANIZER;CN="Paul Page":MAILTO:paul.page@comcast.net
END:VEVENT
BEGIN:VEVENT
DTSTART;TZID=America/Denver:20230509T183000
DTEND;TZID=America/Denver:20230509T203000
DTSTAMP:20260421T053730
CREATED:20230105T215448Z
LAST-MODIFIED:20230105T215448Z
UID:10001402-1683657000-1683664200@fcchurch.org
SUMMARY:Women2Women Bible Study (PM)
DESCRIPTION:Ladies! We’re heading back into “The Amazing Life of Jesus” and you’re invited to join us. It’s always a good time together\, going deeper into His word & walking with Him more closely. \nCost is $30 for the workbook. Sign up in the lobby\, on the website\, or via the Church Center app. For more\, contact Susan at svc@gowebway.com. \nChildcare is available on request – www.fcchurch.org/childcare.
URL:https://fcchurch.org/event/women2women-bible-study-pm-2/2023-05-09/
LOCATION:Fellowship Community Church\, 6263 S. Parker Rd\, Centennial\, CO\, 80016
CATEGORIES:program,women
ATTACH;FMTTYPE=image/jpeg:https://fcchurch.org/wp-content/uploads/2022/08/w2w-banner.jpg
END:VEVENT
BEGIN:VEVENT
DTSTART;TZID=America/Denver:20230507T120000
DTEND;TZID=America/Denver:20230507T133000
DTSTAMP:20260421T053730
CREATED:20221006T163700Z
LAST-MODIFIED:20221006T163700Z
UID:10001291-1683460800-1683466200@fcchurch.org
SUMMARY:Youth Leadership Team Meeting
DESCRIPTION:YLT Meeting after church.
URL:https://fcchurch.org/event/youth-leadership-team-meeting/2023-05-07/
LOCATION:CO
ATTACH;FMTTYPE=image/png:https://fcchurch.org/wp-content/uploads/2022/10/IMG_2536.png
END:VEVENT
BEGIN:VEVENT
DTSTART;TZID=America/Denver:20230507T090000
DTEND;TZID=America/Denver:20230507T120000
DTSTAMP:20260421T053730
CREATED:20230105T214928Z
LAST-MODIFIED:20230516T223609Z
UID:10001334-1683450000-1683460800@fcchurch.org
SUMMARY:Sunday Morning Worship
DESCRIPTION:We can’t wait to spend our Sunday with you! Here’s what you can look forward to this Sunday morning: \n\nFirst Service 9:00 – 10:15am\n\n\nWorship in the Sanctuary\nNursery & Children’s Programs in the Children’s Wing\nYouth in the Fireside Room\nAdult Bible Fellowship in Room 2\n\nSecond Service 10:30 – 11:45am\n\n\nWorship in the Sanctuary\nNursery & Children’s Programs in the Children’s Wing
URL:https://fcchurch.org/event/sunday-morning-worship-3/2023-05-07/
LOCATION:Fellowship Community Church\, 6263 S. Parker Rd\, Centennial\, CO\, 80016
CATEGORIES:adult,all-church
ATTACH;FMTTYPE=image/jpeg:https://fcchurch.org/wp-content/uploads/2022/12/FCC-PICNIC-220828020.jpg
END:VEVENT
BEGIN:VEVENT
DTSTART;TZID=America/Denver:20230503T183000
DTEND;TZID=America/Denver:20230503T193000
DTSTAMP:20260421T053730
CREATED:20230118T174423Z
LAST-MODIFIED:20231114T202119Z
UID:10001534-1683138600-1683142200@fcchurch.org
SUMMARY:Praise & Prayer Gathering
DESCRIPTION:We gather this Wednesday evening to pray and to praise our Heavenly Father. Led by Pastor Rick\, join us in this most important work!
URL:https://fcchurch.org/event/praise-prayer-gathering-2-2/2023-05-03/
LOCATION:Fellowship Community Church\, 6263 S. Parker Rd\, Centennial\, CO\, 80016
CATEGORIES:all-church,program
ATTACH;FMTTYPE=image/jpeg:https://fcchurch.org/wp-content/uploads/2022/08/praise-and-prayer-scaled.jpeg
END:VEVENT
END:VCALENDAR