BEGIN:VCALENDAR
VERSION:2.0
PRODID:-//Fellowship Community Church - ECPv6.11.0.1//NONSGML v1.0//EN
CALSCALE:GREGORIAN
METHOD:PUBLISH
X-WR-CALNAME:Fellowship Community Church
X-ORIGINAL-URL:https://fcchurch.org
X-WR-CALDESC:Events for Fellowship Community Church
REFRESH-INTERVAL;VALUE=DURATION:PT1H
X-Robots-Tag:noindex
X-PUBLISHED-TTL:PT1H
BEGIN:VTIMEZONE
TZID:America/Denver
BEGIN:DAYLIGHT
TZOFFSETFROM:-0700
TZOFFSETTO:-0600
TZNAME:MDT
DTSTART:20230312T090000
END:DAYLIGHT
BEGIN:STANDARD
TZOFFSETFROM:-0600
TZOFFSETTO:-0700
TZNAME:MST
DTSTART:20231105T080000
END:STANDARD
END:VTIMEZONE
BEGIN:VEVENT
DTSTART;TZID=America/Denver:20230416T090000
DTEND;TZID=America/Denver:20230416T120000
DTSTAMP:20260425T090647
CREATED:20230105T214928Z
LAST-MODIFIED:20230516T223609Z
UID:10001331-1681635600-1681646400@fcchurch.org
SUMMARY:Sunday Morning Worship
DESCRIPTION:We can’t wait to spend our Sunday with you! Here’s what you can look forward to this Sunday morning: \n\nFirst Service 9:00 – 10:15am\n\n\nWorship in the Sanctuary\nNursery & Children’s Programs in the Children’s Wing\nYouth in the Fireside Room\nAdult Bible Fellowship in Room 2\n\nSecond Service 10:30 – 11:45am\n\n\nWorship in the Sanctuary\nNursery & Children’s Programs in the Children’s Wing
URL:https://fcchurch.org/event/sunday-morning-worship-3/2023-04-16/
LOCATION:Fellowship Community Church\, 6263 S. Parker Rd\, Centennial\, CO\, 80016
CATEGORIES:adult,all-church
ATTACH;FMTTYPE=image/jpeg:https://fcchurch.org/wp-content/uploads/2022/12/FCC-PICNIC-220828020.jpg
END:VEVENT
BEGIN:VEVENT
DTSTART;TZID=America/Denver:20230412T183000
DTEND;TZID=America/Denver:20230412T193000
DTSTAMP:20260425T090647
CREATED:20230118T174423Z
LAST-MODIFIED:20231114T202119Z
UID:10001531-1681324200-1681327800@fcchurch.org
SUMMARY:Praise & Prayer Gathering
DESCRIPTION:We gather this Wednesday evening to pray and to praise our Heavenly Father. Led by Pastor Rick\, join us in this most important work!
URL:https://fcchurch.org/event/praise-prayer-gathering-2-2/2023-04-12/
LOCATION:Fellowship Community Church\, 6263 S. Parker Rd\, Centennial\, CO\, 80016
CATEGORIES:all-church,program
ATTACH;FMTTYPE=image/jpeg:https://fcchurch.org/wp-content/uploads/2022/08/praise-and-prayer-scaled.jpeg
END:VEVENT
BEGIN:VEVENT
DTSTART;TZID=America/Denver:20230412T180000
DTEND;TZID=America/Denver:20230412T200000
DTSTAMP:20260425T090647
CREATED:20230207T213753Z
LAST-MODIFIED:20230222T204836Z
UID:10001567-1681322400-1681329600@fcchurch.org
SUMMARY:GriefShare
DESCRIPTION:GriefShare is a grief recovery support group where you can find help and healing for the hurt of losing a loved one. Join a friendly\, caring group of people who will walk alongside you through one of life’s most difficult experiences. You can simply show up or sign up beforehand at the Connection Center or online. Cost is $20 for materials. \nFor more\, contact Kathy Juergens at 303.696.1414
URL:https://fcchurch.org/event/griefshare/2023-04-12/
LOCATION:Fellowship Community Church\, 6263 S. Parker Rd\, Centennial\, CO\, 80016
CATEGORIES:adult,all-church
ATTACH;FMTTYPE=image/jpeg:https://fcchurch.org/wp-content/uploads/2023/02/GriefShare-Banner.jpg
END:VEVENT
BEGIN:VEVENT
DTSTART;TZID=America/Denver:20230412T180000
DTEND;TZID=America/Denver:20230412T200000
DTSTAMP:20260425T090647
CREATED:20220713T185442Z
LAST-MODIFIED:20220713T185442Z
UID:10001078-1681322400-1681329600@fcchurch.org
SUMMARY:FORGE:PM
DESCRIPTION:Join us on Wednesday nights from 6:00-8:00pm for games\, bible study\, and more. FORGE:PM is a mid-week bible study for 6th-12th graders. It is a great time to invite friends who aren’t comfortable with church as we look to the gospel each week\, or for those who want to grow in their knowledge of scripture and in their love for Jesus. \nWe will have a free meal on the first Wednesday of the month. \nDuring Fall 2022 we will be walking through the book of 1 Peter. \nWe look forward to seeing you there!
URL:https://fcchurch.org/event/forgepm/2023-04-12/
LOCATION:Fellowship Community Church\, 6263 S. Parker Rd\, Centennial\, CO\, 80016
CATEGORIES:all-church,youth
ATTACH;FMTTYPE=image/jpeg:https://fcchurch.org/wp-content/uploads/2022/02/FORGE.jpeg
ORGANIZER;CN="Jeff Howard":MAILTO:jhoward@fcchurch.org
END:VEVENT
BEGIN:VEVENT
DTSTART;TZID=America/Denver:20230412T093000
DTEND;TZID=America/Denver:20230412T113000
DTSTAMP:20260425T090647
CREATED:20230105T215308Z
LAST-MODIFIED:20230328T181143Z
UID:10001415-1681291800-1681299000@fcchurch.org
SUMMARY:Women2Women Bible Study (AM)
DESCRIPTION:Ladies! We’re heading back into “The Amazing Life of Jesus” and you’re invited to join us. It’s always a good time together\, going deeper into His word & walking with Him more closely. \nCost is $30 for the workbook. Sign up in the lobby\, on the website\, or via the Church Center app. For more\, contact Susan at svc@gowebway.com. \nChildcare is available on request – www.fcchurch.org/childcare.
URL:https://fcchurch.org/event/women2women-bible-study-am-2/2023-04-12/
LOCATION:Fellowship Community Church\, 6263 S. Parker Rd\, Centennial\, CO\, 80016
CATEGORIES:women
ATTACH;FMTTYPE=image/jpeg:https://fcchurch.org/wp-content/uploads/2022/08/w2w-banner.jpg
END:VEVENT
BEGIN:VEVENT
DTSTART;TZID=America/Denver:20230412T090000
DTEND;TZID=America/Denver:20230412T110000
DTSTAMP:20260425T090647
CREATED:20230105T215813Z
LAST-MODIFIED:20230217T163225Z
UID:10001467-1681290000-1681297200@fcchurch.org
SUMMARY:Precepts Weekly Study (AM)
DESCRIPTION:Join us for a deep dive into Jeremiah and Lamentations utilizing the Precepts Bible Study Method\, an inductive style of study. Cost is $25. For more information\, please contact Jamie Strasser at jrstrasser@comcast.net or 303.601.8853 \nChildcare is available on request. Please request at the following link – www.fcchurch.org/childcare
URL:https://fcchurch.org/event/precepts-weekly-study-am-2/2023-04-12/
LOCATION:Fellowship Community Church\, 6263 S. Parker Rd\, Centennial\, CO\, 80016
CATEGORIES:program,women
ATTACH;FMTTYPE=image/jpeg:https://fcchurch.org/wp-content/uploads/2022/08/Untitled-1.jpg
END:VEVENT
BEGIN:VEVENT
DTSTART;TZID=America/Denver:20230411T183000
DTEND;TZID=America/Denver:20230411T203000
DTSTAMP:20260425T090647
CREATED:20230105T220008Z
LAST-MODIFIED:20230105T220025Z
UID:10001495-1681237800-1681245000@fcchurch.org
SUMMARY:Men's Bible Study
DESCRIPTION:Gentlemen! You are invited to join Paul Page and our Men’s Ministry in a read through the book of Romans. For more\, contact Paul at paul.page@comcast.net. \nChildcare is available upon request – www.fcchurch.org/childcare
URL:https://fcchurch.org/event/mens-bible-study-2/2023-04-11/
LOCATION:Fellowship Community Church\, 6263 S. Parker Rd\, Centennial\, CO\, 80016
CATEGORIES:men,program
ATTACH;FMTTYPE=image/jpeg:https://fcchurch.org/wp-content/uploads/2022/08/priscilla-du-preez-x_jAYPjskYI-unsplash-scaled.jpeg
ORGANIZER;CN="Paul Page":MAILTO:paul.page@comcast.net
END:VEVENT
BEGIN:VEVENT
DTSTART;TZID=America/Denver:20230411T183000
DTEND;TZID=America/Denver:20230411T203000
DTSTAMP:20260425T090647
CREATED:20230105T215448Z
LAST-MODIFIED:20230105T215448Z
UID:10001398-1681237800-1681245000@fcchurch.org
SUMMARY:Women2Women Bible Study (PM)
DESCRIPTION:Ladies! We’re heading back into “The Amazing Life of Jesus” and you’re invited to join us. It’s always a good time together\, going deeper into His word & walking with Him more closely. \nCost is $30 for the workbook. Sign up in the lobby\, on the website\, or via the Church Center app. For more\, contact Susan at svc@gowebway.com. \nChildcare is available on request – www.fcchurch.org/childcare.
URL:https://fcchurch.org/event/women2women-bible-study-pm-2/2023-04-11/
LOCATION:Fellowship Community Church\, 6263 S. Parker Rd\, Centennial\, CO\, 80016
CATEGORIES:program,women
ATTACH;FMTTYPE=image/jpeg:https://fcchurch.org/wp-content/uploads/2022/08/w2w-banner.jpg
END:VEVENT
BEGIN:VEVENT
DTSTART;TZID=America/Denver:20230409T080000
DTEND;TZID=America/Denver:20230409T120000
DTSTAMP:20260425T090647
CREATED:20230110T205609Z
LAST-MODIFIED:20230307T212510Z
UID:10001330-1681027200-1681041600@fcchurch.org
SUMMARY:Easter Services - 3 Services Today
DESCRIPTION:The Proof\nThis Sunday\, join us for any of the three services as we celebrate the risen Saviour\, the proof we are forgiven!\nWith it being such a special Sunday\, expect some changes to our usual order of worship. Here’s what you can look forward to this Sunday morning: \nWorship Services \n\n8:00am\n9:15am\n10:30am\n\nThere are no children\, youth\, or adult classes on Easter Sunday so that families may worship together! Services will go an hour each. \nAnd don’t forget you can come early for a hot breakfast with our youth Easter Breakfast from 7:30-10:30a.
URL:https://fcchurch.org/event/sunday-morning-worship-4/
LOCATION:Fellowship Community Church\, 6263 S. Parker Rd\, Centennial\, CO\, 80016
CATEGORIES:all-church,bulletin
ATTACH;FMTTYPE=image/jpeg:https://fcchurch.org/wp-content/uploads/2023/03/2023-Easter-BANNER-1080p.jpg
END:VEVENT
BEGIN:VEVENT
DTSTART;TZID=America/Denver:20230409T073000
DTEND;TZID=America/Denver:20230409T103000
DTSTAMP:20260425T090647
CREATED:20230110T212234Z
LAST-MODIFIED:20230110T212248Z
UID:10001543-1681025400-1681036200@fcchurch.org
SUMMARY:Easter Breakfast
DESCRIPTION:Come out and support our teenagers at their one-and-only fundraiser for the year. Food will be available from 7:30am until 10:30am. Come early and grab something to eat before worship; or stick around afterwards and have brunch with the family. \nA hot breakfast with the warm hearts of brothers and sisters in Christ! You really can’t beat this start to a Resurrection Sunday.
URL:https://fcchurch.org/event/12085/
LOCATION:Fellowship Community Church\, 6263 S. Parker Rd\, Centennial\, CO\, 80016
CATEGORIES:all-church,event,youth
ATTACH;FMTTYPE=image/jpeg:https://fcchurch.org/wp-content/uploads/2023/01/Easter-Breakfast-2018.jpg
ORGANIZER;CN="Jeff Howard":MAILTO:jhoward@fcchurch.org
END:VEVENT
BEGIN:VEVENT
DTSTART;TZID=America/Denver:20230408T113000
DTEND;TZID=America/Denver:20230408T140000
DTSTAMP:20260425T090647
CREATED:20230321T193123Z
LAST-MODIFIED:20230328T180808Z
UID:10001582-1680953400-1680962400@fcchurch.org
SUMMARY:Women of Worth
DESCRIPTION:Calling all women on their own – join us for our Easter fellowship and potluck lunch! The main dish is ham; you bring the rest. \nSign up at the Connection Center or contact Kendell Benson at 703-853-9759. \nWe look forward to seeing you there!
URL:https://fcchurch.org/event/women-of-worth-2-3/
LOCATION:CO
CATEGORIES:bulletin,event,women
ATTACH;FMTTYPE=image/jpeg:https://fcchurch.org/wp-content/uploads/2023/01/Women-of-Worth.jpg
END:VEVENT
BEGIN:VEVENT
DTSTART;TZID=America/Denver:20230408T083000
DTEND;TZID=America/Denver:20230408T100000
DTSTAMP:20260425T090647
CREATED:20230321T193255Z
LAST-MODIFIED:20230321T193255Z
UID:10001305-1680942600-1680948000@fcchurch.org
SUMMARY:Men's Breakfast
DESCRIPTION:Men of Fellowship! Join us on the 2nd Saturday of each month for a breakfast with men of all generations. It’s an opportunity to get to know some of the other guys who call FCC their family. Good food and good company… who could ask for more? \nBe sure to invite your sons\, neighbors\, grandparents and more. We’re better together! \nA $5 donation per person is appreciated to help cover costs.
URL:https://fcchurch.org/event/mens-breakfast-5-4/
LOCATION:Fellowship Community Church\, 6263 S. Parker Rd\, Centennial\, CO\, 80016
CATEGORIES:bulletin,men
ATTACH;FMTTYPE=image/jpeg:https://fcchurch.org/wp-content/uploads/2021/10/breakfast-scaled.jpeg
ORGANIZER;CN="Paul Page":MAILTO:paul.page@comcast.net
END:VEVENT
BEGIN:VEVENT
DTSTART;TZID=America/Denver:20230407T183000
DTEND;TZID=America/Denver:20230407T193000
DTSTAMP:20260425T090647
CREATED:20230110T210117Z
LAST-MODIFIED:20230307T212224Z
UID:10001542-1680892200-1680895800@fcchurch.org
SUMMARY:Good Friday Service
DESCRIPTION:The Provision\nJoin us on Good Friday for our continuation of Holy Week with a serious and contemplative reflection on the cross. Song\, word\, and prayer will take us to the foot of the cross and help us understand what it cost God to forgive. \nServices will be one hour. Childcare is not available.
URL:https://fcchurch.org/event/good-friday-service/
LOCATION:Fellowship Community Church\, 6263 S. Parker Rd\, Centennial\, CO\, 80016
CATEGORIES:all-church,bulletin
ATTACH;FMTTYPE=image/jpeg:https://fcchurch.org/wp-content/uploads/2023/03/2023-Easter-BANNER-1080p.jpg
END:VEVENT
BEGIN:VEVENT
DTSTART;TZID=America/Denver:20230406T183000
DTEND;TZID=America/Denver:20230406T193000
DTSTAMP:20260425T090647
CREATED:20230307T212031Z
LAST-MODIFIED:20230307T212031Z
UID:10001579-1680805800-1680809400@fcchurch.org
SUMMARY:Maundy Thursday Service
DESCRIPTION:The Preparation\nWe begin our observance with something new this year – a gathering on Maundy Thursday. Come and sit at the table with Jesus. Hear how Jesus prepared his disciples for his death\, and then\, as a family\, take communion. \nIf you would like to prepare to lead your family in Communion\, here is a resource to help you through it. \nServices will be an hour long. Childcare is not available
URL:https://fcchurch.org/event/maundy-thursday-service/
LOCATION:Fellowship Community Church\, 6263 S. Parker Rd\, Centennial\, CO\, 80016
CATEGORIES:all-church,bulletin
ATTACH;FMTTYPE=image/jpeg:https://fcchurch.org/wp-content/uploads/2023/03/2023-Easter-BANNER-1080p.jpg
END:VEVENT
BEGIN:VEVENT
DTSTART;TZID=America/Denver:20230406T063000
DTEND;TZID=America/Denver:20230406T073000
DTSTAMP:20260425T090647
CREATED:20230228T162025Z
LAST-MODIFIED:20230228T162025Z
UID:10001577-1680762600-1680766200@fcchurch.org
SUMMARY:Youth Rez Week Breakfast
DESCRIPTION:Our students will be meeting at 6:30am on Tuesday and Thursday of Holy Week for breakfast and a devotional before they head to school. \nJoin us as we spend some time focusing our hearts on mind on the work of Jesus on the cross and in the resurrection.
URL:https://fcchurch.org/event/youth-rez-week-breakfast-2/
LOCATION:Fellowship Community Church\, 6263 S. Parker Rd\, Centennial\, CO\, 80016
CATEGORIES:youth
ATTACH;FMTTYPE=image/png:https://fcchurch.org/wp-content/uploads/2023/02/IMG_3140.png
END:VEVENT
BEGIN:VEVENT
DTSTART;TZID=America/Denver:20230405T183000
DTEND;TZID=America/Denver:20230405T193000
DTSTAMP:20260425T090647
CREATED:20230118T174423Z
LAST-MODIFIED:20231114T202119Z
UID:10001530-1680719400-1680723000@fcchurch.org
SUMMARY:Praise & Prayer Gathering
DESCRIPTION:We gather this Wednesday evening to pray and to praise our Heavenly Father. Led by Pastor Rick\, join us in this most important work!
URL:https://fcchurch.org/event/praise-prayer-gathering-2-2/2023-04-05/
LOCATION:Fellowship Community Church\, 6263 S. Parker Rd\, Centennial\, CO\, 80016
CATEGORIES:all-church,program
ATTACH;FMTTYPE=image/jpeg:https://fcchurch.org/wp-content/uploads/2022/08/praise-and-prayer-scaled.jpeg
END:VEVENT
BEGIN:VEVENT
DTSTART;TZID=America/Denver:20230405T180000
DTEND;TZID=America/Denver:20230405T200000
DTSTAMP:20260425T090647
CREATED:20230207T213753Z
LAST-MODIFIED:20230222T204836Z
UID:10001566-1680717600-1680724800@fcchurch.org
SUMMARY:GriefShare
DESCRIPTION:GriefShare is a grief recovery support group where you can find help and healing for the hurt of losing a loved one. Join a friendly\, caring group of people who will walk alongside you through one of life’s most difficult experiences. You can simply show up or sign up beforehand at the Connection Center or online. Cost is $20 for materials. \nFor more\, contact Kathy Juergens at 303.696.1414
URL:https://fcchurch.org/event/griefshare/2023-04-05/
LOCATION:Fellowship Community Church\, 6263 S. Parker Rd\, Centennial\, CO\, 80016
CATEGORIES:adult,all-church
ATTACH;FMTTYPE=image/jpeg:https://fcchurch.org/wp-content/uploads/2023/02/GriefShare-Banner.jpg
END:VEVENT
BEGIN:VEVENT
DTSTART;TZID=America/Denver:20230405T180000
DTEND;TZID=America/Denver:20230405T200000
DTSTAMP:20260425T090647
CREATED:20220713T185442Z
LAST-MODIFIED:20220713T185442Z
UID:10001077-1680717600-1680724800@fcchurch.org
SUMMARY:FORGE:PM
DESCRIPTION:Join us on Wednesday nights from 6:00-8:00pm for games\, bible study\, and more. FORGE:PM is a mid-week bible study for 6th-12th graders. It is a great time to invite friends who aren’t comfortable with church as we look to the gospel each week\, or for those who want to grow in their knowledge of scripture and in their love for Jesus. \nWe will have a free meal on the first Wednesday of the month. \nDuring Fall 2022 we will be walking through the book of 1 Peter. \nWe look forward to seeing you there!
URL:https://fcchurch.org/event/forgepm/2023-04-05/
LOCATION:Fellowship Community Church\, 6263 S. Parker Rd\, Centennial\, CO\, 80016
CATEGORIES:all-church,youth
ATTACH;FMTTYPE=image/jpeg:https://fcchurch.org/wp-content/uploads/2022/02/FORGE.jpeg
ORGANIZER;CN="Jeff Howard":MAILTO:jhoward@fcchurch.org
END:VEVENT
BEGIN:VEVENT
DTSTART;TZID=America/Denver:20230405T093000
DTEND;TZID=America/Denver:20230405T113000
DTSTAMP:20260425T090647
CREATED:20230105T215308Z
LAST-MODIFIED:20230328T181143Z
UID:10001414-1680687000-1680694200@fcchurch.org
SUMMARY:Women2Women Bible Study (AM)
DESCRIPTION:Ladies! We’re heading back into “The Amazing Life of Jesus” and you’re invited to join us. It’s always a good time together\, going deeper into His word & walking with Him more closely. \nCost is $30 for the workbook. Sign up in the lobby\, on the website\, or via the Church Center app. For more\, contact Susan at svc@gowebway.com. \nChildcare is available on request – www.fcchurch.org/childcare.
URL:https://fcchurch.org/event/women2women-bible-study-am-2/2023-04-05/
LOCATION:Fellowship Community Church\, 6263 S. Parker Rd\, Centennial\, CO\, 80016
CATEGORIES:women
ATTACH;FMTTYPE=image/jpeg:https://fcchurch.org/wp-content/uploads/2022/08/w2w-banner.jpg
END:VEVENT
BEGIN:VEVENT
DTSTART;TZID=America/Denver:20230405T090000
DTEND;TZID=America/Denver:20230405T110000
DTSTAMP:20260425T090647
CREATED:20230105T215813Z
LAST-MODIFIED:20230217T163225Z
UID:10001466-1680685200-1680692400@fcchurch.org
SUMMARY:Precepts Weekly Study (AM)
DESCRIPTION:Join us for a deep dive into Jeremiah and Lamentations utilizing the Precepts Bible Study Method\, an inductive style of study. Cost is $25. For more information\, please contact Jamie Strasser at jrstrasser@comcast.net or 303.601.8853 \nChildcare is available on request. Please request at the following link – www.fcchurch.org/childcare
URL:https://fcchurch.org/event/precepts-weekly-study-am-2/2023-04-05/
LOCATION:Fellowship Community Church\, 6263 S. Parker Rd\, Centennial\, CO\, 80016
CATEGORIES:program,women
ATTACH;FMTTYPE=image/jpeg:https://fcchurch.org/wp-content/uploads/2022/08/Untitled-1.jpg
END:VEVENT
BEGIN:VEVENT
DTSTART;TZID=America/Denver:20230404T183000
DTEND;TZID=America/Denver:20230404T203000
DTSTAMP:20260425T090647
CREATED:20230105T220008Z
LAST-MODIFIED:20230105T220025Z
UID:10001494-1680633000-1680640200@fcchurch.org
SUMMARY:Men's Bible Study
DESCRIPTION:Gentlemen! You are invited to join Paul Page and our Men’s Ministry in a read through the book of Romans. For more\, contact Paul at paul.page@comcast.net. \nChildcare is available upon request – www.fcchurch.org/childcare
URL:https://fcchurch.org/event/mens-bible-study-2/2023-04-04/
LOCATION:Fellowship Community Church\, 6263 S. Parker Rd\, Centennial\, CO\, 80016
CATEGORIES:men,program
ATTACH;FMTTYPE=image/jpeg:https://fcchurch.org/wp-content/uploads/2022/08/priscilla-du-preez-x_jAYPjskYI-unsplash-scaled.jpeg
ORGANIZER;CN="Paul Page":MAILTO:paul.page@comcast.net
END:VEVENT
BEGIN:VEVENT
DTSTART;TZID=America/Denver:20230404T183000
DTEND;TZID=America/Denver:20230404T203000
DTSTAMP:20260425T090647
CREATED:20230105T215731Z
LAST-MODIFIED:20230217T163337Z
UID:10001448-1680633000-1680640200@fcchurch.org
SUMMARY:Precepts Weekly Study (PM)
DESCRIPTION:Join us for a deep dive into Jeremiah and Lamentations utilizing the Precepts Bible Study Method\, an inductive style of study. Cost is $25. For more information\, please contact Jamie Strasser at jrstrasser@comcast.net or 303.601.8853 \nChildcare is available on request. Please request at the following link – www.fcchurch.org/childcare
URL:https://fcchurch.org/event/precepts-weekly-study-pm-2/2023-04-04/
LOCATION:Fellowship Community Church\, 6263 S. Parker Rd\, Centennial\, CO\, 80016
CATEGORIES:program,women
ATTACH;FMTTYPE=image/jpeg:https://fcchurch.org/wp-content/uploads/2022/08/Untitled-1.jpg
END:VEVENT
BEGIN:VEVENT
DTSTART;TZID=America/Denver:20230404T183000
DTEND;TZID=America/Denver:20230404T203000
DTSTAMP:20260425T090647
CREATED:20230105T215448Z
LAST-MODIFIED:20230105T215448Z
UID:10001397-1680633000-1680640200@fcchurch.org
SUMMARY:Women2Women Bible Study (PM)
DESCRIPTION:Ladies! We’re heading back into “The Amazing Life of Jesus” and you’re invited to join us. It’s always a good time together\, going deeper into His word & walking with Him more closely. \nCost is $30 for the workbook. Sign up in the lobby\, on the website\, or via the Church Center app. For more\, contact Susan at svc@gowebway.com. \nChildcare is available on request – www.fcchurch.org/childcare.
URL:https://fcchurch.org/event/women2women-bible-study-pm-2/2023-04-04/
LOCATION:Fellowship Community Church\, 6263 S. Parker Rd\, Centennial\, CO\, 80016
CATEGORIES:program,women
ATTACH;FMTTYPE=image/jpeg:https://fcchurch.org/wp-content/uploads/2022/08/w2w-banner.jpg
END:VEVENT
BEGIN:VEVENT
DTSTART;TZID=America/Denver:20230404T063000
DTEND;TZID=America/Denver:20230404T073000
DTSTAMP:20260425T090647
CREATED:20230228T161915Z
LAST-MODIFIED:20230228T161915Z
UID:10001576-1680589800-1680593400@fcchurch.org
SUMMARY:Youth Rez Week Breakfast
DESCRIPTION:Our students will be meeting at 6:30am on Tuesday and Thursday of Holy Week for breakfast and a devotional before they head to school. \nJoin us as we spend some time focusing our hearts on mind on the work of Jesus on the cross and in the resurrection.
URL:https://fcchurch.org/event/youth-rez-week-breakfast/
LOCATION:CO
CATEGORIES:youth
ATTACH;FMTTYPE=image/png:https://fcchurch.org/wp-content/uploads/2023/02/IMG_3140.png
END:VEVENT
BEGIN:VEVENT
DTSTART;TZID=America/Denver:20230402T120000
DTEND;TZID=America/Denver:20230402T133000
DTSTAMP:20260425T090647
CREATED:20221006T163700Z
LAST-MODIFIED:20221006T163700Z
UID:10001290-1680436800-1680442200@fcchurch.org
SUMMARY:Youth Leadership Team Meeting
DESCRIPTION:YLT Meeting after church.
URL:https://fcchurch.org/event/youth-leadership-team-meeting/2023-04-02/
LOCATION:CO
ATTACH;FMTTYPE=image/png:https://fcchurch.org/wp-content/uploads/2022/10/IMG_2536.png
END:VEVENT
BEGIN:VEVENT
DTSTART;TZID=America/Denver:20230402T090000
DTEND;TZID=America/Denver:20230402T120000
DTSTAMP:20260425T090647
CREATED:20230105T214928Z
LAST-MODIFIED:20230516T223609Z
UID:10001329-1680426000-1680436800@fcchurch.org
SUMMARY:Sunday Morning Worship
DESCRIPTION:We can’t wait to spend our Sunday with you! Here’s what you can look forward to this Sunday morning: \n\nFirst Service 9:00 – 10:15am\n\n\nWorship in the Sanctuary\nNursery & Children’s Programs in the Children’s Wing\nYouth in the Fireside Room\nAdult Bible Fellowship in Room 2\n\nSecond Service 10:30 – 11:45am\n\n\nWorship in the Sanctuary\nNursery & Children’s Programs in the Children’s Wing
URL:https://fcchurch.org/event/sunday-morning-worship-3/2023-04-02/
LOCATION:Fellowship Community Church\, 6263 S. Parker Rd\, Centennial\, CO\, 80016
CATEGORIES:adult,all-church
ATTACH;FMTTYPE=image/jpeg:https://fcchurch.org/wp-content/uploads/2022/12/FCC-PICNIC-220828020.jpg
END:VEVENT
BEGIN:VEVENT
DTSTART;TZID=America/Denver:20230329T183000
DTEND;TZID=America/Denver:20230329T193000
DTSTAMP:20260425T090647
CREATED:20230118T174423Z
LAST-MODIFIED:20231114T202119Z
UID:10001529-1680114600-1680118200@fcchurch.org
SUMMARY:Praise & Prayer Gathering
DESCRIPTION:We gather this Wednesday evening to pray and to praise our Heavenly Father. Led by Pastor Rick\, join us in this most important work!
URL:https://fcchurch.org/event/praise-prayer-gathering-2-2/2023-03-29/
LOCATION:Fellowship Community Church\, 6263 S. Parker Rd\, Centennial\, CO\, 80016
CATEGORIES:all-church,program
ATTACH;FMTTYPE=image/jpeg:https://fcchurch.org/wp-content/uploads/2022/08/praise-and-prayer-scaled.jpeg
END:VEVENT
BEGIN:VEVENT
DTSTART;TZID=America/Denver:20230329T180000
DTEND;TZID=America/Denver:20230329T200000
DTSTAMP:20260425T090647
CREATED:20230207T213753Z
LAST-MODIFIED:20230222T204836Z
UID:10001565-1680112800-1680120000@fcchurch.org
SUMMARY:GriefShare
DESCRIPTION:GriefShare is a grief recovery support group where you can find help and healing for the hurt of losing a loved one. Join a friendly\, caring group of people who will walk alongside you through one of life’s most difficult experiences. You can simply show up or sign up beforehand at the Connection Center or online. Cost is $20 for materials. \nFor more\, contact Kathy Juergens at 303.696.1414
URL:https://fcchurch.org/event/griefshare/2023-03-29/
LOCATION:Fellowship Community Church\, 6263 S. Parker Rd\, Centennial\, CO\, 80016
CATEGORIES:adult,all-church
ATTACH;FMTTYPE=image/jpeg:https://fcchurch.org/wp-content/uploads/2023/02/GriefShare-Banner.jpg
END:VEVENT
BEGIN:VEVENT
DTSTART;TZID=America/Denver:20230329T180000
DTEND;TZID=America/Denver:20230329T200000
DTSTAMP:20260425T090647
CREATED:20220713T185442Z
LAST-MODIFIED:20220713T185442Z
UID:10001076-1680112800-1680120000@fcchurch.org
SUMMARY:FORGE:PM
DESCRIPTION:Join us on Wednesday nights from 6:00-8:00pm for games\, bible study\, and more. FORGE:PM is a mid-week bible study for 6th-12th graders. It is a great time to invite friends who aren’t comfortable with church as we look to the gospel each week\, or for those who want to grow in their knowledge of scripture and in their love for Jesus. \nWe will have a free meal on the first Wednesday of the month. \nDuring Fall 2022 we will be walking through the book of 1 Peter. \nWe look forward to seeing you there!
URL:https://fcchurch.org/event/forgepm/2023-03-29/
LOCATION:Fellowship Community Church\, 6263 S. Parker Rd\, Centennial\, CO\, 80016
CATEGORIES:all-church,youth
ATTACH;FMTTYPE=image/jpeg:https://fcchurch.org/wp-content/uploads/2022/02/FORGE.jpeg
ORGANIZER;CN="Jeff Howard":MAILTO:jhoward@fcchurch.org
END:VEVENT
BEGIN:VEVENT
DTSTART;TZID=America/Denver:20230329T093000
DTEND;TZID=America/Denver:20230329T113000
DTSTAMP:20260425T090647
CREATED:20230105T215308Z
LAST-MODIFIED:20230328T181143Z
UID:10001413-1680082200-1680089400@fcchurch.org
SUMMARY:Women2Women Bible Study (AM)
DESCRIPTION:Ladies! We’re heading back into “The Amazing Life of Jesus” and you’re invited to join us. It’s always a good time together\, going deeper into His word & walking with Him more closely. \nCost is $30 for the workbook. Sign up in the lobby\, on the website\, or via the Church Center app. For more\, contact Susan at svc@gowebway.com. \nChildcare is available on request – www.fcchurch.org/childcare.
URL:https://fcchurch.org/event/women2women-bible-study-am-2/2023-03-29/
LOCATION:Fellowship Community Church\, 6263 S. Parker Rd\, Centennial\, CO\, 80016
CATEGORIES:women
ATTACH;FMTTYPE=image/jpeg:https://fcchurch.org/wp-content/uploads/2022/08/w2w-banner.jpg
END:VEVENT
END:VCALENDAR